BEGIN:VCALENDAR
PRODID:NingEventWidget-v1
VERSION:2.0
METHOD:PUBLISH
BEGIN:VTIMEZONE
TZID:Europe/Paris
X-LIC-LOCATION:Europe/Paris
BEGIN:DAYLIGHT
TZOFFSETFROM:+0100
TZOFFSETTO:+0200
TZNAME:CEST
DTSTART:19700329T020000
RRULE:FREQ=YEARLY;BYMONTH=3;BYDAY=-1SU
END:DAYLIGHT
BEGIN:STANDARD
TZOFFSETFROM:+0200
TZOFFSETTO:+0100
TZNAME:CET
DTSTART:19701025T030000
RRULE:FREQ=YEARLY;BYMONTH=10;BYDAY=-1SU
END:STANDARD
END:VTIMEZONE
BEGIN:VEVENT
UID:2485226:Event:757021
DTSTAMP:20260424T061248Z
SUMMARY:Formation radiesthésie
DESCRIPTION:le  radiesthésiste,peut capter les longueurs d'ondes ou 
 radiations naturelles pour trouver la présence de ce qu'il est en tra
 in de chercher par ex: objets perdus, diagnostic sur les animaux, les 
 terrains.les thérapies les plus appropriées à la personne\n\nPour p
 lus d'information, aller sur https://epanews.fr/events/formation-radie
 sth-sie
DTSTART;TZID=Europe/Paris:20120418T000000
DTEND;TZID=Europe/Paris:20120418T235900
CATEGORIES:13
LOCATION:Aix-en-Provence
WEBSITE:
URL:
CONTACT:0442272213
ORGANIZER;CN="Josiane de Rougemont":https://epanews.fr/profile/LECLOSD
 UBIENETRE
ATTACH;FMTTYPE="image/jpeg":http://storage.ning.com/topology/rest/1.0/
 file/get/1662586457?profile=original
ATTENDEE;ROLE=REQ-PARTICIPANT;PARTSTAT=ACCEPTED;RSVP=TRUE;CN="Josiane 
 de Rougemont":https://epanews.fr/profile/LECLOSDUBIENETRE
END:VEVENT
END:VCALENDAR
