BEGIN:VCALENDAR
PRODID:NingEventWidget-v1
VERSION:2.0
METHOD:PUBLISH
BEGIN:VTIMEZONE
TZID:Europe/Paris
X-LIC-LOCATION:Europe/Paris
BEGIN:DAYLIGHT
TZOFFSETFROM:+0100
TZOFFSETTO:+0200
TZNAME:CEST
DTSTART:19700329T020000
RRULE:FREQ=YEARLY;BYMONTH=3;BYDAY=-1SU
END:DAYLIGHT
BEGIN:STANDARD
TZOFFSETFROM:+0200
TZOFFSETTO:+0100
TZNAME:CET
DTSTART:19701025T030000
RRULE:FREQ=YEARLY;BYMONTH=10;BYDAY=-1SU
END:STANDARD
END:VTIMEZONE
BEGIN:VEVENT
UID:2485226:Event:3067323
DTSTAMP:20260424T223933Z
SUMMARY:Formation Réflexologie plantaire indienne avec bol kansu
DESCRIPTION:Formation Réflexologie plantaire indienne avec bol kansu 
 par A corps & âme Narbonne\nQu’est ce que la réflexologie plantair
 e ?D’origine très ancienne, la réflexologie plantaire indienne rep
 ose sur le principe de correspondance entre les zones réflexes et cer
 tains organes. Elle se pratique avec un petit bol composé de différe
 nts alliages dont le principal et le cuivre.\nSes bienfaits….– sou
 lage les douleurs, débloque certaines tensions soit physiques, soit p
 sychiques, d’où un effet profond de relaxation,– aide à la circu
 lation sanguine et lymphatique,– aide à drainer les surcharges loca
 les et à distance,– rééquilibre le fonctionnement organique et gl
 andulaire,– équilibre les trois doshas (tempéraments ayurvédiques
  : Vatta, Pitta et Kapha) en activant le feu digestif appelé agni.\nL
 a réflexologie plantaire indienne constitue une véritable préventio
 n en rétablissant l’harmonie perdue, elle représente une technique
  de soin simple et très efficace. La réflexologie indienne est une a
 ide précieuse pour les thérapeutes et tout personnel soignant.\nObje
 ctifs de la formation :– Mettre en œuvre des enchaînements spécif
 iques manuelles et avec le bol Kansu,– Etablir un bilan de constitut
 ion ayurvédique,– Aider à la relaxation et au lâcher-prise,– Co
 nnaissances théoriques : méthode, origine, ses applications, ses eff
 ets,– Développer son sens du toucher,– Effectuer les manœuvres a
 vec précision\n* une attestation à chaque fin de stage vous sera dé
 livrée.\nDurée de la formation : 2 joursHoraires : 8h30-17h\nTarifs 
 190€ les 2 jours\nAurore 06.18.6014.41\n\nPour plus d'information, a
 ller sur https://epanews.fr/events/formation-r-flexologie-plantaire-in
 dienne-avec-bol-kansu-1
DTSTART;TZID=Europe/Paris:20201010T083000
DTEND;TZID=Europe/Paris:20201011T170000
CATEGORIES:11
LOCATION:l'arc en ciel du partage
WEBSITE:http://www.larcencieldupartage.org
URL:http://www.larcencieldupartage.org
CONTACT:0623013596
ORGANIZER;CN="L'arc en ciel du partage":https://epanews.fr/profile/Lar
 cencieldupartage
ATTACH;FMTTYPE="image/jpeg":https://storage.ning.com/topology/rest/1.0
 /file/get/7130475073?profile=original
ATTENDEE;ROLE=REQ-PARTICIPANT;PARTSTAT=ACCEPTED;RSVP=TRUE;CN="L'arc en
  ciel du partage":https://epanews.fr/profile/Larcencieldupartage
END:VEVENT
END:VCALENDAR
