BEGIN:VCALENDAR
PRODID:NingEventWidget-v1
VERSION:2.0
METHOD:PUBLISH
BEGIN:VTIMEZONE
TZID:Europe/Paris
X-LIC-LOCATION:Europe/Paris
BEGIN:DAYLIGHT
TZOFFSETFROM:+0100
TZOFFSETTO:+0200
TZNAME:CEST
DTSTART:19700329T020000
RRULE:FREQ=YEARLY;BYMONTH=3;BYDAY=-1SU
END:DAYLIGHT
BEGIN:STANDARD
TZOFFSETFROM:+0200
TZOFFSETTO:+0100
TZNAME:CET
DTSTART:19701025T030000
RRULE:FREQ=YEARLY;BYMONTH=10;BYDAY=-1SU
END:STANDARD
END:VTIMEZONE
BEGIN:VEVENT
UID:2485226:Event:2310758
DTSTAMP:20260423T031549Z
SUMMARY:Formation PNL Ã  CrÃ©mieu en Juin : 3 jours pour gagner en eff
 icacitÃ© personnelle et professionnelle
DESCRIPTION:Venez vivreÂ 3 jours exceptionnelsÂ en juin Ã  CrÃ©mieu (3
 8) pour dÃ©couvrir lesÂ bases de la PNLÂ et acquÃ©rir des outils qui v
 ontÂ faire la diffÃ©renceÂ dans votre vie personnelle et professionnel
 le.Â \nÂ \nPendant ces 3 jours, vous allez acquÃ©rir desÂ outils puiss
 antsÂ de changement qui vont vous permettre deÂ :\n-Â Â Â Â Â Â Â Â Â 
  Clarifier vos objectifs\n-Â Â Â Â Â Â Â Â Â  Mettre au jour vos resso
 urces et valeurs\n-Â Â Â Â Â Â Â Â Â  AmÃ©liorer votre communication\n
 -Â Â Â Â Â Â Â Â Â  Mieux gÃ©rer vos Ã©motions\n-Â Â Â Â Â Â Â Â Â  GÃ
 ©rer les conflits\nÂ \nLes thÃ¨mes seront abordÃ©s par le biais dâ€™un
  apport thÃ©orique, dâ€™exercices pratiques et dâ€™ateliers pour chang
 er.\nÂ \nLieuÂ :\nDans la citÃ© mÃ©diÃ©vale de CrÃ©mieu Ã  40 km de Ly
 on.\nDatesÂ :\nLes 12, 13 et 14 juin\nFormateursÂ :\nAudrey Bariot et 
 Eric Mong\nTarifsÂ :\n545 â‚¬ pour les particuliers\n10% de rÃ©duction
  en cas de paiement anticipÃ©\n15% de rÃ©duction si vous venez Ã  deux
 \nTarif rÃ©duit pour les moins de 25 ans\nContactsÂ :\nEric MongÂ \ner
 ic_mong@yahoo.fr\n06 25 04 62 49\nAudrey Bariot\nhttp://cashattitude.f
 r/\ncontactcashattitude@gmail.com\nÂ \nA trÃ¨s bientÃ´t\nÂ \nEric Mong
 \nCoach & Formateur PNL\n\nPour plus d'information, aller sur https://
 epanews.fr/events/formation-pnl-cr-mieu-en-juin-3-jours-pour-gagner-en
 -efficacit
DTSTART;TZID=Europe/Paris:20150612T093000
DTEND;TZID=Europe/Paris:20150614T160000
CATEGORIES:38
LOCATION:CrÃ©mieu
WEBSITE:
URL:
CONTACT:06 25 04 62 49
ORGANIZER;CN=Emong:https://epanews.fr/profile/Emong
ATTACH;FMTTYPE="image/jpeg":
ATTENDEE;ROLE=REQ-PARTICIPANT;PARTSTAT=ACCEPTED;RSVP=TRUE;CN=Emong:htt
 ps://epanews.fr/profile/Emong
END:VEVENT
END:VCALENDAR
