BEGIN:VCALENDAR
PRODID:NingEventWidget-v1
VERSION:2.0
METHOD:PUBLISH
BEGIN:VTIMEZONE
TZID:Europe/Paris
X-LIC-LOCATION:Europe/Paris
BEGIN:DAYLIGHT
TZOFFSETFROM:+0100
TZOFFSETTO:+0200
TZNAME:CEST
DTSTART:19700329T020000
RRULE:FREQ=YEARLY;BYMONTH=3;BYDAY=-1SU
END:DAYLIGHT
BEGIN:STANDARD
TZOFFSETFROM:+0200
TZOFFSETTO:+0100
TZNAME:CET
DTSTART:19701025T030000
RRULE:FREQ=YEARLY;BYMONTH=10;BYDAY=-1SU
END:STANDARD
END:VTIMEZONE
BEGIN:VEVENT
UID:2485226:Event:2657271
DTSTAMP:20260421T111859Z
SUMMARY:formation pnl certifiante
DESCRIPTION:Formation certifiante PNL (Programmation Neuro Linguistiqu
 e) par le Dr Michel Novovitch - \nDate à définir - A partir de sept
 embre 2016 La programmation neuro-linguistique (PNL) est un ensemble 
 de techniques de communication et de transformation de soi qui s'inté
 resse à nos réactions plutôt qu'aux origines de nos comportements. 
 Elle privilégie le comment au pourquoi, propose une grille d'observat
 ion pour améliorer la perception que nous avons également de se fixe
 r des objectifs et de les réaliser. C'est une boite à outils, dont l
 a clé réside dans le langage et l'utilisation que chacun de nous fai
 t de ses 5 sens et de son corps. Son but : permettre de programmer et 
 reproduire ses propres modèles de réussite.\nCe cursus de 30 heures 
 (3 heures par semaine) est avant tout un travail sur soi pour soi, afi
 n de mieux \"vivre\" la vie privée, professionnelle, sociale ... par 
 une augmentation - une prise de conscience efficace - de ce que nous s
 ommes, de ce que nous recelons, de ce que sont nos potentiels, afin de
  les mieux utiliser pour notre propre bénéfice. Groupe de 6 à 12 pe
 rsonnes. Un certificat d'assistance délivré par les \"European Schoo
 ls of Management\" sera délivré. \nParticipation - Fiche d'inscript
 ion obligatoire - Possibilité de régler en plusieurs fois\n550€ no
 n adhérent \n500€ adhérent \nPlaces limitées \nPré -Réservat
 ions Nadège 06.23.01.35.96 ou larcencieldupartage@sfr.fr \nLieu :\nL
 'arc en ciel du partage\n1 rue garancière\n11100 Narbonne\nwww.larcen
 cieldupartage.org\n\n\nPour plus d'information, aller sur https://epan
 ews.fr/events/formation-pnl-certifiante
DTSTART;TZID=Europe/Paris:20160903T090000
DTEND;TZID=Europe/Paris:20160903T170000
CATEGORIES:11
LOCATION:narbonne
WEBSITE:http://www.larcencieldupartage.org
URL:http://www.larcencieldupartage.org
CONTACT:0623013596
ORGANIZER;CN="L'arc en ciel du partage":https://epanews.fr/profile/Lar
 cencieldupartage
ATTACH;FMTTYPE="image/jpeg":http://storage.ning.com/topology/rest/1.0/
 file/get/1663571999?profile=original
ATTENDEE;ROLE=REQ-PARTICIPANT;PARTSTAT=ACCEPTED;RSVP=TRUE;CN="L'arc en
  ciel du partage":https://epanews.fr/profile/Larcencieldupartage
ATTENDEE;ROLE=REQ-PARTICIPANT;PARTSTAT=TENTATIVE;RSVP=TRUE;CN=LMDISCUT
 E:https://epanews.fr/profile/lmdiscute
END:VEVENT
END:VCALENDAR
