BEGIN:VCALENDAR
PRODID:NingEventWidget-v1
VERSION:2.0
METHOD:PUBLISH
BEGIN:VTIMEZONE
TZID:Europe/Paris
X-LIC-LOCATION:Europe/Paris
BEGIN:DAYLIGHT
TZOFFSETFROM:+0100
TZOFFSETTO:+0200
TZNAME:CEST
DTSTART:19700329T020000
RRULE:FREQ=YEARLY;BYMONTH=3;BYDAY=-1SU
END:DAYLIGHT
BEGIN:STANDARD
TZOFFSETFROM:+0200
TZOFFSETTO:+0100
TZNAME:CET
DTSTART:19701025T030000
RRULE:FREQ=YEARLY;BYMONTH=10;BYDAY=-1SU
END:STANDARD
END:VTIMEZONE
BEGIN:VEVENT
UID:2485226:Event:1886715
DTSTAMP:20260421T204014Z
SUMMARY:Formation : Mieux communiquer avec l' EnnÃ©agramme
DESCRIPTION:Mieux Comprendre nos enfants, notre famille,\nles collÃ¨gu
 es de travail, pour vivre des relations harmonieusesÂ Â Â Â Â Â Â Â Â 
 Â Â Â Â Â Â Â Â Â Â Â  \nLa communication est au cÅ“ur de toute relati
 on, pourtant nous ne parlons pas tous le mÃªme langageÂ ! Notre vision
  du monde nous conduit Ã  adopter des comportements qui leÂ  plus souv
 ent ne sont ni entendus ni compris.\nVenez dÃ©couvrir lâ€™EnnÃ©agramme
 ,\nun outil pratique de communication et dâ€™Ã©volution.\nÂ \nLâ€™EnnÃ
 ©agramme est un systÃ¨me dynamique dÃ©crivant 9 personnalitÃ©s et leur
 s interactions. Il nous permet de comprendre le fonctionnement de lâ€™
 autre, (ses motivations,Â  sa sensibilitÃ©, son mode de relation privi
 lÃ©giÃ©).Â  Nous pouvons ainsi dÃ©cider de vivre au quotidien des rela
 tions harmonieuses en utilisant nos potentiels et en reconnaissant ceu
 x des autres.\nFacilement applicable dans la vie quotidienne, la conna
 issance de l'EnnÃ©agramme permet de :\n\nMieux se connaÃ®tre tant sur 
 le plan personnel que relationnel, affectif et professionnel\nMieux co
 mprendre les autres et donc dÃ©velopper la communication, l'acceptatio
 n\nd' Ã‰voluer vers la rÃ©alisation de soi\n\nCetteÂ  formation peut Ã
 ªtre financÃ©e par leÂ  DIF (droit individuel Ã  la formation)\nMe con
 tacter pour Â + dâ€™infos\n06 86 95 25 62\n\nPour plus d'information, 
 aller sur https://epanews.fr/events/formation-mieux-communiquer-avec-l
 -enn-agramme
DTSTART;TZID=Europe/Paris:20140517T090000
DTEND;TZID=Europe/Paris:20140518T180000
CATEGORIES:13
LOCATION:LA  CIOTAT
WEBSITE:
URL:
CONTACT:0686952562
ORGANIZER;CN=Marianne:https://epanews.fr/profile/MarianneJalil
ATTACH;FMTTYPE="image/jpeg":
ATTENDEE;ROLE=REQ-PARTICIPANT;PARTSTAT=ACCEPTED;RSVP=TRUE;CN=Marianne:
 https://epanews.fr/profile/MarianneJalil
END:VEVENT
END:VCALENDAR
