BEGIN:VCALENDAR
PRODID:NingEventWidget-v1
VERSION:2.0
METHOD:PUBLISH
BEGIN:VTIMEZONE
TZID:Europe/Paris
X-LIC-LOCATION:Europe/Paris
BEGIN:DAYLIGHT
TZOFFSETFROM:+0100
TZOFFSETTO:+0200
TZNAME:CEST
DTSTART:19700329T020000
RRULE:FREQ=YEARLY;BYMONTH=3;BYDAY=-1SU
END:DAYLIGHT
BEGIN:STANDARD
TZOFFSETFROM:+0200
TZOFFSETTO:+0100
TZNAME:CET
DTSTART:19701025T030000
RRULE:FREQ=YEARLY;BYMONTH=10;BYDAY=-1SU
END:STANDARD
END:VTIMEZONE
BEGIN:VEVENT
UID:2485226:Event:1475852
DTSTAMP:20260423T194349Z
SUMMARY:Formation massage tantrique cachemiry par Christophe
DESCRIPTION:5 jours de massage tantrique avec cette spÃ©cificitÃ© Ã©ne
 rgÃ©tique du Cachemiry, l'esprit du tantra avec une animation joyeuse 
 et bien cadrÃ©e.... stage rÃ©sidentiel\nPour dÃ©couvrir et apprendre l
 es techniques et intÃ©grer la dimension Ã©nergÃ©tique de ce massage. Q
 ue lâ€™objectif soit professionnel ou personnel. Lâ€™alliance du Tantr
 a et du Massage Cachemiry harmonise, rÃ©Ã©quilibre au niveau Ã©nergÃ©t
 ique relationnel et spirituel. Le processus proposÃ© aux thÃ©rapeutes 
 et aux particuliers permet Ã©galement dâ€™ acquÃ©rir lâ€™aisance et la
  joie Ã  offrir et Ã  recevoir, de se libÃ©rer de blocages et Ãªtre da
 ns le mouvement de la Vie, dans la conscience et lâ€™expansion. GuÃ©ri
 sons et dÃ©blocages sont rÃ©guliÃ¨rement constatÃ©s, vÃ©cus et partagÃ
 ©s. La formation proposÃ©e se fait dans un climat de pleine confiance 
 et un cadre de sÃ©curitÃ© propices au processus de transformation, dan
 s le respect de chaque individualitÃ© et des rythmes personnels.\n\nPo
 ur plus d'information, aller sur https://epanews.fr/events/formation-m
 assage-tantrique-cachemiry-par-christophe-1
DTSTART;TZID=Europe/Paris:20140805T220000
DTEND;TZID=Europe/Paris:20140809T050000
CATEGORIES:34
LOCATION:hameau de l'Ã©toile
WEBSITE:http://www.relations-d-amour.net/PDF/FormationTCM2012- ETEA5.p
 df
URL:http://www.relations-d-amour.net/PDF/FormationTCM2012- ETEA5.pdf
CONTACT:0612199141
ORGANIZER;CN="Christophe Dacier":https://epanews.fr/profile/Christophe
 Dacier
ATTACH;FMTTYPE="image/jpeg":http://storage.ning.com/topology/rest/1.0/
 file/get/1662874808?profile=original
ATTENDEE;ROLE=REQ-PARTICIPANT;PARTSTAT=ACCEPTED;RSVP=TRUE;CN="Christop
 he Dacier":https://epanews.fr/profile/ChristopheDacier
END:VEVENT
END:VCALENDAR
