BEGIN:VCALENDAR
PRODID:NingEventWidget-v1
VERSION:2.0
METHOD:PUBLISH
BEGIN:VTIMEZONE
TZID:Europe/Paris
X-LIC-LOCATION:Europe/Paris
BEGIN:DAYLIGHT
TZOFFSETFROM:+0100
TZOFFSETTO:+0200
TZNAME:CEST
DTSTART:19700329T020000
RRULE:FREQ=YEARLY;BYMONTH=3;BYDAY=-1SU
END:DAYLIGHT
BEGIN:STANDARD
TZOFFSETFROM:+0200
TZOFFSETTO:+0100
TZNAME:CET
DTSTART:19701025T030000
RRULE:FREQ=YEARLY;BYMONTH=10;BYDAY=-1SU
END:STANDARD
END:VTIMEZONE
BEGIN:VEVENT
UID:2485226:Event:251774
DTSTAMP:20260420T123713Z
SUMMARY:Formation Massage Lomi Lomi Nui Hawaien
DESCRIPTION:* QUâ€™EST-CE-QUE LE LOMI LOMI ?Lomi Lomi est un terme Haw
 aÃ¯en qui veut dire Â« massage Â». Câ€™est un massage sacrÃ© hÃ©ritÃ© 
 des polynÃ©siens anciens, et plus spÃ©cifiquement des maÃ®tres guÃ©ris
 seurs dâ€™HawaÃ¯ qui se le transmettent depuis des gÃ©nÃ©rations. Il n
 â€™est enseignÃ© que depuis peu en Europe.On ne peut le comprendre san
 s saisir au prÃ©alable lâ€™essence de la philosophie HawaÃ¯enne appelÃ
 ©e Huna, et dont le principe fondamental est que toute crÃ©ature reche
 rche lâ€™harmonie universelle.Câ€™est un magnifique massage de tout le
  corps, dÃ©licat mais intense, donnÃ© dans un rythme long, fluide, et 
 continu Ã  lâ€™image dâ€™un OcÃ©an infini. Le praticien, dont le cÅ“ur
  est habitÃ© par lâ€™harmonie universelle, utilise aussi bien ses avan
 t-bras que ses mains.Dans la tradition il Ã©tait donnÃ© comme un ritue
 l de renouveau, une fÃªte, une cÃ©lÃ©bration.* Æ¤ROGRAMME :Cet enseign
 ement du Lomi Lomi Nui combine de la danse Hula, des Ã©lÃ©ments de mas
 sage subtil Kahi Loa, des techniques de respiration lente, une approch
 e par la voix et le chant hawaÃ¯ens, des rituels (vÅ“ux du soleil, Hai
  pools), ainsi quâ€™un enseignement des bases de la philosophie Huna (
 les 4 Ã©lÃ©ments, la dimension du cÅ“ur Aloha).* ÆŠUREE :La formation 
 comprend 70 heures dâ€™enseignements et de pratiquesA raison de 3 WE (
 du vendredi 17h au dimanche 18h), rÃ©partis sur 3 mois successifs.Date
 s: 29/04 au 01/05/201120/05 au 22/05/201117/06 au 19/06/2011Il est bon
  de pouvoir effectuer des pratiques entre chaque regroupementâ†’ Les p
 articipants recevront un certificat international Ã  la fin de la 3Ã¨m
 e sÃ©quence* Æ¤UBLIC VISE :Des masseurs qui souhaitent dÃ©velopper et 
 donner un sens nouveau Ã  leur pratiqueDes thÃ©rapeutes ou professionn
 els qui se rÃ©fÃ¨rent aux signaux du corpsDes personnes qui veulent ap
 prendre davantage sur leur corps et sâ€™harmoniser avec lui* Æ–NFORMAT
 IONS :Pensez Ã  apporter des vÃªtements amples et souplesDe quoi vous 
 changer pour un massage (t-shirt sans manche, pantalon lÃ©ger ou caleÃ
 §on)Un parÃ©o ou un grand foulard pour sâ€™envelopper les hanchesDes c
 haussures ou chaussons dâ€™intÃ©rieur confortablesDe lâ€™eau de votre 
 choix (en abondance)* Æ¬ARIF UNIQUE :465 euros pour les 3 weekends (co
 mprenant lâ€™enseignement, la location de la salle et les collations)â
 †’Il est possible de sâ€™inscrire pour un massage individuel avec Agni
 eszka le soir aprÃ¨s 20h30* FORMATRICEAgnieszka Suter - thÃ©rapeute de
  travail du corps, professeur de danse Hula et Hawaiian massage Lomi L
 omi Nui (selon la tradition, Abraham, Kauai, les pouvoirs Aloha Intern
 ational). Elle a Ã©tudiÃ© en Pologne, en Suisse et Ã  HawaÃ¯, y compri
 s Ã  Susan Floyd Pa'ainu (Kino Mana Lomi Lomi Nui), Kawaikapuokalani F
 rank Hewitt (danse Hula), Raylene Hope Kawaiae'ai PECO (chants et la d
 anse Hula), Hoffmann Suzanne (Shiatsu), Tim Ron (massage, shiatsu, Qi 
 Gong), Robin Becker (Mouvement Continuum).Agnieszka est formatrice et 
 thÃ©rapeute individuelle et enseigne Ã©galement la danse Hula. Elle co
 llabore avec des thÃ©rapeutes et des centres de dÃ©veloppement personn
 el en Pologne. Elle a travaillÃ© comme masseuse Lomi Lomi Nui, entre a
 utres, dans la station suisse de Kiental Kientalerhof et pendant les a
 teliers 5 Rhytmes de Jonathan Horan Ã  Londres et Ã  New York.\n\nPour
  plus d'information, aller sur https://epanews.fr/events/formation-mas
 sage-lomi-lomi
DTSTART;TZID=Europe/Paris:20110429T170000
DTEND;TZID=Europe/Paris:20110501T180000
CATEGORIES:67
LOCATION:Strasbourg
WEBSITE:
URL:
CONTACT:03 88 36 71 47
ORGANIZER;CN="Mariusz Wisniewski":https://epanews.fr/profile/MariuszWi
 sniewski
ATTACH;FMTTYPE="image/jpeg":http://storage.ning.com/topology/rest/1.0/
 file/get/1662402536?profile=original
ATTENDEE;ROLE=REQ-PARTICIPANT;PARTSTAT=ACCEPTED;RSVP=TRUE;CN="Mariusz 
 Wisniewski":https://epanews.fr/profile/MariuszWisniewski
END:VEVENT
END:VCALENDAR
