BEGIN:VCALENDAR
PRODID:NingEventWidget-v1
VERSION:2.0
METHOD:PUBLISH
BEGIN:VTIMEZONE
TZID:Europe/Paris
X-LIC-LOCATION:Europe/Paris
BEGIN:DAYLIGHT
TZOFFSETFROM:+0100
TZOFFSETTO:+0200
TZNAME:CEST
DTSTART:19700329T020000
RRULE:FREQ=YEARLY;BYMONTH=3;BYDAY=-1SU
END:DAYLIGHT
BEGIN:STANDARD
TZOFFSETFROM:+0200
TZOFFSETTO:+0100
TZNAME:CET
DTSTART:19701025T030000
RRULE:FREQ=YEARLY;BYMONTH=10;BYDAY=-1SU
END:STANDARD
END:VTIMEZONE
BEGIN:VEVENT
UID:2485226:Event:2110211
DTSTAMP:20260426T013245Z
SUMMARY:Formation massage du crâne
DESCRIPTION:La tête dans les étoiles et les pieds sur terre  Une for
 mation inédite sur le massage du crâne pour les particuliers et prof
 essionnels du bien-être.\nApprenez en une journée un protocole de ma
 ssage du crâne inédit.\nExcellent pour détendre le mental et apport
 er vigueur aux cheveux.\n \n\nPour plus d'information, aller sur http
 s://epanews.fr/events/formation-massage-du-cr-ne
DTSTART;TZID=Europe/Paris:20141211T000000
DTEND;TZID=Europe/Paris:20141211T235900
CATEGORIES:95
LOCATION:Centre Coeurs à Corps
WEBSITE:http://www.coeursacorps.com/formations/massage-du-cr%C3%A2ne/
URL:http://www.coeursacorps.com/formations/massage-du-cr%C3%A2ne/
CONTACT:0130320346
ORGANIZER:Nadia Poullain et Catherine Pilath
ATTACH;FMTTYPE="image/jpeg":http://storage.ning.com/topology/rest/1.0/
 file/get/1663246193?profile=original
ATTENDEE;ROLE=REQ-PARTICIPANT;PARTSTAT=ACCEPTED;RSVP=TRUE;CN="Nadia Po
 ullain":https://epanews.fr/profile/NadiaPoullain
END:VEVENT
END:VCALENDAR
