BEGIN:VCALENDAR
PRODID:NingEventWidget-v1
VERSION:2.0
METHOD:PUBLISH
BEGIN:VTIMEZONE
TZID:Europe/Paris
X-LIC-LOCATION:Europe/Paris
BEGIN:DAYLIGHT
TZOFFSETFROM:+0100
TZOFFSETTO:+0200
TZNAME:CEST
DTSTART:19700329T020000
RRULE:FREQ=YEARLY;BYMONTH=3;BYDAY=-1SU
END:DAYLIGHT
BEGIN:STANDARD
TZOFFSETFROM:+0200
TZOFFSETTO:+0100
TZNAME:CET
DTSTART:19701025T030000
RRULE:FREQ=YEARLY;BYMONTH=10;BYDAY=-1SU
END:STANDARD
END:VTIMEZONE
BEGIN:VEVENT
UID:2485226:Event:1569382
DTSTAMP:20260423T100730Z
SUMMARY:Formation massage bÃ©bÃ© en Bretagne
DESCRIPTION:Formation Massage bÃ©bÃ© en novembre: Inscrivez-vous !\n\n
 \n\n \nLA PROCHAINE FORMATION EN \"MASSAGE BÃ‰BÃ‰\"\nÂ SE DÃ‰ROULERA L
 ES VENDREDI 15 ET 22 NOVEMBRE Ã€ SAINT BRIEUC.\nAnimÃ© par Catherine S
 oulard\nJ'interviendais pour l'insitut de formation en Art Du Bien-Ãªt
 re\n\nMassage bÃ©bÃ©Â \nÂ \nÂ le vendredi 15 novembre et le vendredi 2
 2 novembre 2013Â \nProgrammeÂ ICI\n\nÂ \n\n\n\nBÃ©bÃ© tant attendu (cl
 iquez sur l'image)\n\n\n\n\n \nAccueil 8h45\n\n-Â DÃ©marrage des cours
  : 9hÂ \n-Â Pause dÃ©jeuner : 12h30-13h15Â \n-Â Fin des cours : 17h15Â
   \nInscrivez-VousÂ \n\n\n\n\nPour plus d'information, aller sur https
 ://epanews.fr/events/formation-massage-b-b-en-bretagne
DTSTART;TZID=Europe/Paris:20131115T180000
DTEND;TZID=Europe/Paris:20131122T190000
CATEGORIES:22
LOCATION:Saint Brieuc
WEBSITE:http://insaeculacatherine.blogspot.fr/
URL:http://insaeculacatherine.blogspot.fr/
CONTACT:02 23 37 10 22
ORGANIZER;CN="Catherine Soulard":https://epanews.fr/profile/CatherineS
 oulard
ATTACH;FMTTYPE="image/jpeg":http://storage.ning.com/topology/rest/1.0/
 file/get/1662944023?profile=original
ATTENDEE;ROLE=REQ-PARTICIPANT;PARTSTAT=ACCEPTED;RSVP=TRUE;CN="Catherin
 e Soulard":https://epanews.fr/profile/CatherineSoulard
END:VEVENT
END:VCALENDAR
