BEGIN:VCALENDAR
PRODID:NingEventWidget-v1
VERSION:2.0
METHOD:PUBLISH
BEGIN:VTIMEZONE
TZID:Europe/Paris
X-LIC-LOCATION:Europe/Paris
BEGIN:DAYLIGHT
TZOFFSETFROM:+0100
TZOFFSETTO:+0200
TZNAME:CEST
DTSTART:19700329T020000
RRULE:FREQ=YEARLY;BYMONTH=3;BYDAY=-1SU
END:DAYLIGHT
BEGIN:STANDARD
TZOFFSETFROM:+0200
TZOFFSETTO:+0100
TZNAME:CET
DTSTART:19701025T030000
RRULE:FREQ=YEARLY;BYMONTH=10;BYDAY=-1SU
END:STANDARD
END:VTIMEZONE
BEGIN:VEVENT
UID:2485226:Event:24594
DTSTAMP:20260420T121835Z
SUMMARY:formation massage ayurvédique
DESCRIPTION:OBJECTIF :\n\nApporter à chaque participant les notions d
 e base permettant de pratiquer un massage ayurvédique de 1h30 dans un
  but de détente.\n\nPROGRAMME :\n\nThéorie :\n\n- Principe du massag
 e ayurvédique\n- Le rôle du masseur\n- Préparation et conseil\n\nPr
 atique :\n\n- Le massage des pieds, des jambes\n- Le massage des bras,
  des mains\n- Le massage du torse et de l'abdomen\n- Le massage du vis
 age et du crâne\n- Le massage du dos\n- Le massage des jambes et fess
 iers\n\nPratique sous supervision\n\n\nLe nombre de personnes est volo
 ntairement limité à 8 personnes par session pour une pratique sous b
 onne supervision .\n\nCout: 300euros\nDurée : 3 jours\nDate : du 14 a
 u 16 maI 2010\n\nUn Certificat de Formation vous sera délivré.\nnous
  somme une association loi 1901 et\navec la colaboration de l'organism
 e de formation MYRTEA des financement dans le cadre du droit individue
 l à la formation son possible .\nNous somme a votre écoute pour tout
 e information ,merci de nous joindre par télephone.\n\nPour plus d'in
 formation, aller sur https://epanews.fr/events/formation-massage-ayurv
 edique-1
DTSTART;TZID=Europe/Paris:20100514T000000
DTEND;TZID=Europe/Paris:20100516T235900
CATEGORIES:34
LOCATION:MASSAGE
WEBSITE:
URL:
CONTACT:0627229690
ORGANIZER;CN="marie sabrina":https://epanews.fr/profile/mariesabrina
ATTACH;FMTTYPE="image/jpeg":http://storage.ning.com/topology/rest/1.0/
 file/get/1662279574?profile=original
ATTENDEE;ROLE=REQ-PARTICIPANT;PARTSTAT=ACCEPTED;RSVP=TRUE;CN="marie sa
 brina":https://epanews.fr/profile/mariesabrina
END:VEVENT
END:VCALENDAR
