BEGIN:VCALENDAR
PRODID:NingEventWidget-v1
VERSION:2.0
METHOD:PUBLISH
BEGIN:VTIMEZONE
TZID:Europe/Paris
X-LIC-LOCATION:Europe/Paris
BEGIN:DAYLIGHT
TZOFFSETFROM:+0100
TZOFFSETTO:+0200
TZNAME:CEST
DTSTART:19700329T020000
RRULE:FREQ=YEARLY;BYMONTH=3;BYDAY=-1SU
END:DAYLIGHT
BEGIN:STANDARD
TZOFFSETFROM:+0200
TZOFFSETTO:+0100
TZNAME:CET
DTSTART:19701025T030000
RRULE:FREQ=YEARLY;BYMONTH=10;BYDAY=-1SU
END:STANDARD
END:VTIMEZONE
BEGIN:VEVENT
UID:2485226:Event:2388960
DTSTAMP:20260424T202904Z
SUMMARY:formation massage ayurvÃ©dique abhyanga montÃ©limar
DESCRIPTION:Le massage* abhyanga fait partie de la mÃ©decine tradition
 nelle indienne, abhyanga signifiantÂ \"tout le corps\"!\nÂ Massage* Ã©
 nergÃ©tique, trÃ¨s enveloppant permet Ã  l'Ã©nergie vitale de bien cir
 culer dans tout le corps.\nÂ \nÂ Techniques :Â \nLissages, essorages, 
 effleurages. points d'Ã©nergie. Massage complet doux et enveloppant.\n
 S'effectue avec une huile chaude qui contribue Ã  l'effet rÃ©gÃ©nÃ©ran
 t de ce massage*\nBienfaits:\nRelaxe tout en douceur, permet au corps 
 et Ã  l'esprit de tout relÃ¢cher, sensation d'apaisement total.\nObjec
 tif:\nMaÃ®triser les gestes et la posture pour donner un massage d' 1 
 heure.\n\nDÃ©roulement :\nPour dÃ©marrer la journÃ©e, une mise en cond
 ition Ã©nergÃ©tique est pratiquÃ©e.\nLe formateur explique et montre l
 es diffÃ©rents mouvements.\nChaque stagiaire reproduit ces mouvements 
 sur un partenaire.\nChaque participant est tour Ã  tour le donneur et 
 le receveur.\nCe stage ne convient pas aux femmes enceintes.\nDurÃ©eÂ 
 :\n3 joursÂ \nTarifsÂ :Â \nMontÃ©limarÂ 450 â‚¬Â (RÃ©servation :Â 100â
 ‚¬ Â Solde 1er jour de formationÂ 350Â â‚¬)\nIl est recommandÃ© d'avoi
 r les ongles courts.\nApporter des vÃªtements souples, deux grandes se
 rviettes et un peignoir.\nUn dossier technique est remis Ã  chaque par
 ticipantÂ \nUne attestation est remise Ã  la fin du sÃ©minaireÂ  Â \n\
 nLE FORMATEUR\nPatrick Lelu est Naturo Relaxologue, diplÃ´mÃ© en MÃ©de
 cines Naturelles de la FacultÃ© de Medecine Paris XIII et certifiÃ© en
  Massage Traditionnel de Relaxation agrÃ©Ã© par la FFMTR.Â \nLe Natrur
 o Relaxologue propose un accompagnement dans une prise en charge globa
 le dans le cadre de la prÃ©vention et la correction enÂ  matiÃ¨re de s
 antÃ©. Enfants, adultes, sÃ©niors.\nPraticien de SantÃ©, Patrick Lelu 
 anime diffÃ©rents stages en Psycho Energie, AromathÃ©rapie, Fleurs de 
 Bach et intervient au sein de l'entreprise.\n\nPour plus d'information
 , aller sur https://epanews.fr/events/formation-massage-ayurv-dique-ab
 hyanga-mont-limar-1
DTSTART;TZID=Europe/Paris:20160206T093000
DTEND;TZID=Europe/Paris:20160208T163000
CATEGORIES:26
LOCATION:MONTELIMAR
WEBSITE:http://patricklelu.eklablog.com/massage-ayurvedique-p475549
URL:http://patricklelu.eklablog.com/massage-ayurvedique-p475549
CONTACT:0614530828
ORGANIZER;CN="Patrick Lelu":https://epanews.fr/profile/PATRICKLELU
ATTACH;FMTTYPE="image/jpeg":http://storage.ning.com/topology/rest/1.0/
 file/get/1663435854?profile=original
ATTENDEE;ROLE=REQ-PARTICIPANT;PARTSTAT=ACCEPTED;RSVP=TRUE;CN="Patrick 
 Lelu":https://epanews.fr/profile/PATRICKLELU
END:VEVENT
END:VCALENDAR
