BEGIN:VCALENDAR
PRODID:NingEventWidget-v1
VERSION:2.0
METHOD:PUBLISH
BEGIN:VTIMEZONE
TZID:Europe/Paris
X-LIC-LOCATION:Europe/Paris
BEGIN:DAYLIGHT
TZOFFSETFROM:+0100
TZOFFSETTO:+0200
TZNAME:CEST
DTSTART:19700329T020000
RRULE:FREQ=YEARLY;BYMONTH=3;BYDAY=-1SU
END:DAYLIGHT
BEGIN:STANDARD
TZOFFSETFROM:+0200
TZOFFSETTO:+0100
TZNAME:CET
DTSTART:19701025T030000
RRULE:FREQ=YEARLY;BYMONTH=10;BYDAY=-1SU
END:STANDARD
END:VTIMEZONE
BEGIN:VEVENT
UID:2485226:Event:666215
DTSTAMP:20260424T035058Z
SUMMARY:Formation Maitre Praticien-ne Shamballa Basique
DESCRIPTION:Découvrez votre Nature Essentielle\n2 jours intensifs d'e
 xpansion pour devenir faciltateur/facilitatrice de mieux-etre multidim
 ensionnel pour soi et les autres\nInitiez-vous Aux énergies d’Amour
  Sans Condition, de Maitrise Personnelle & d’Aide à la Guérison de
  Shamballa\nBienvenue - Première étape dans l'intégration des éner
 gies et de la philosophie de Shamballa, cette formation vous offrira u
 ne base solide sur laquelle asseoir votre transformation. - Vous retro
 uverez votre capacité à canaliser l'énergie pour votre mieux-etre 
 et celui de vos semblables.\nDiplôme - Pendant la formation, chaque p
 articipant-e est harmonisé à toutes les énergies de Shamballa Multi
 dimensional Healing (MDH), d'une grande puissance transformationnelle.
  - Après l'atelier, vous êtes Praticien-ne autorisé du Shamballa MD
 H. Un manuel et un certificat numéroté vous sont remis, vous permett
 ant de pratiquer des séances énergétiques Shamballa MDH.\nLieu : Es
 pace LiLa, Oasis de calme absolu en bordure de forêt, facilement acce
 ssible entre Marseille et Aix-en Provence.\nDates :  Samedi 31 mars e
 t dimanche 1er avril 2012\nTarif : 297,00 €\nPré-requis : Aucun. A
 ccessible même si vous n'avez jamais travaillé avec les énergies.\n
 Renseignements : Informations complémentaires sur le site www.aquarie
 nne.net \nRéservation : Vous pouvez télécharger votre Bulletin_Ins
 cription sur lequel toutes les modalités d'inscription sont indiqué
 es. Cet atelier se déroule en groupe de 4 à 12 personnes, aussi est-
 il préférable de prendre contact par courriel ou téléphone avant t
 oute inscription pour vérifier la  disponibilité des places.\nConta
 ct : aquarienne@hotmail.fr\n \n \n \n \n \n \n\nPour plus d'info
 rmation, aller sur https://epanews.fr/events/formation-maitre-praticie
 n-ne-shamballa-basique
DTSTART;TZID=Europe/Paris:20120331T090000
DTEND;TZID=Europe/Paris:20120401T190000
CATEGORIES:13
LOCATION:Marseille - Aix-en-Provence
WEBSITE:http://www.aquarienne.net/basique-praticien.php
URL:http://www.aquarienne.net/basique-praticien.php
CONTACT:06 26 82 83 64
ORGANIZER;CN="Patricia DIEGHI":https://epanews.fr/profile/PatriciaDIEG
 HI
ATTACH;FMTTYPE="image/jpeg":http://storage.ning.com/topology/rest/1.0/
 file/get/1662540272?profile=original
ATTENDEE;ROLE=REQ-PARTICIPANT;PARTSTAT=ACCEPTED;RSVP=TRUE;CN="Patricia
  DIEGHI":https://epanews.fr/profile/PatriciaDIEGHI
END:VEVENT
END:VCALENDAR
