BEGIN:VCALENDAR
PRODID:NingEventWidget-v1
VERSION:2.0
METHOD:PUBLISH
BEGIN:VTIMEZONE
TZID:Europe/Paris
X-LIC-LOCATION:Europe/Paris
BEGIN:DAYLIGHT
TZOFFSETFROM:+0100
TZOFFSETTO:+0200
TZNAME:CEST
DTSTART:19700329T020000
RRULE:FREQ=YEARLY;BYMONTH=3;BYDAY=-1SU
END:DAYLIGHT
BEGIN:STANDARD
TZOFFSETFROM:+0200
TZOFFSETTO:+0100
TZNAME:CET
DTSTART:19701025T030000
RRULE:FREQ=YEARLY;BYMONTH=10;BYDAY=-1SU
END:STANDARD
END:VTIMEZONE
BEGIN:VEVENT
UID:2485226:Event:2222085
DTSTAMP:20260422T042928Z
SUMMARY:formation magnetisme session 4
DESCRIPTION:Formation magnetisme 4eme session par Colette Salvanez, Th
 Ã©rapeute holistiqueÂ  Â \nSamedi 18 avril 2015 de 9h30 Ã  18h00 Â Â \
 nÂ \n- Â travailler et approfondir la tÃ©lÃ©pathie, Â Â - Â l'Ã©critur
 e automatique , Â Â - Â Aller travailler derriÃ¨re la barriÃ¨re du con
 scient pour laisser venir toute vos connaissancesÂ - Vous permettre d'
 Ãªtre juste dans tout ce que vous ferez. Â  Â - Vous alignez (parole, 
 pensÃ©e et acte) ainsi que votre alignement corporel pour le mettre en
  phase avec votre Ã¢me. Â Â - Et pour finir trÃ¨s certainement message
  vous concernant afin que vous puissiez continuer votre chemin avec de
 s clÃ©s supplÃ©mentaires. Â Â \nÂ Repas tirÃ© du chapeau Â Â \nÂ Tarif
  90â‚¬ Â Â \nArrhes de 30â‚¬ Ã  l'inscription\nDemander fiche d'inscri
 ption : larcencieldupartage@sfr.fr Â  Â \nÂ L'arc en ciel du Partage Â
  Â \n1 rue garanciÃ¨re Â  Â \n11100 narbonne Â  Â \n\nPour plus d'info
 rmation, aller sur https://epanews.fr/events/formation-magnetisme-sess
 ion-4
DTSTART;TZID=Europe/Paris:20150418T093000
DTEND;TZID=Europe/Paris:20150418T180000
CATEGORIES:11
LOCATION:narbonne
WEBSITE:http://www.larcencieldupartage.org
URL:http://www.larcencieldupartage.org
CONTACT:0623013596
ORGANIZER;CN="L'arc en ciel du partage":https://epanews.fr/profile/Lar
 cencieldupartage
ATTACH;FMTTYPE="image/jpeg":http://storage.ning.com/topology/rest/1.0/
 file/get/1663326261?profile=original
ATTENDEE;ROLE=REQ-PARTICIPANT;PARTSTAT=ACCEPTED;RSVP=TRUE;CN="L'arc en
  ciel du partage":https://epanews.fr/profile/Larcencieldupartage
END:VEVENT
END:VCALENDAR
