BEGIN:VCALENDAR
PRODID:NingEventWidget-v1
VERSION:2.0
METHOD:PUBLISH
BEGIN:VTIMEZONE
TZID:Europe/Paris
X-LIC-LOCATION:Europe/Paris
BEGIN:DAYLIGHT
TZOFFSETFROM:+0100
TZOFFSETTO:+0200
TZNAME:CEST
DTSTART:19700329T020000
RRULE:FREQ=YEARLY;BYMONTH=3;BYDAY=-1SU
END:DAYLIGHT
BEGIN:STANDARD
TZOFFSETFROM:+0200
TZOFFSETTO:+0100
TZNAME:CET
DTSTART:19701025T030000
RRULE:FREQ=YEARLY;BYMONTH=10;BYDAY=-1SU
END:STANDARD
END:VTIMEZONE
BEGIN:VEVENT
UID:2485226:Event:3042896
DTSTAMP:20260423T081915Z
SUMMARY:Formation magnetisme session 1 par Colette Salvanez
DESCRIPTION:Formation magnetisme session 1 par Colette Salvanez\nProgr
 amme :L’éthique d’un magnétiseur, Apprendre les bons gestes pour
  se protéger,Apprendre à magnétiser, à ressentir, Le déroulement 
 d’une séance,Le travail sur photo – le travail à distance -Parle
 r d’âme à âme (1ère approche) Il vous sera délivré à chaque f
 in de session : un livret explicatif ainsi qu’un certificat de stage
 .Tarifs (2 jours):Adhérent 180€ Non Adhérent 200€60€ d'arrhes 
 RéservationsNadège 06.23.01.35.96Lieu : L'arc en ciel du partage1 ru
 e garancière 11100 narbonnewww.larcencieldupartage.orgRepas tiré du 
 chapeau Fiche d'inscription obligatoire\n\nPour plus d'information, al
 ler sur https://epanews.fr/events/formation-magnetisme-session-1-par-c
 olette-salvanez
DTSTART;TZID=Europe/Paris:20191005T093000
DTEND;TZID=Europe/Paris:20191006T180000
CATEGORIES:11
LOCATION:narbonne
WEBSITE:http://www.larcencieldupartage.org
URL:http://www.larcencieldupartage.org
CONTACT:0623013596
ORGANIZER;CN="L'arc en ciel du partage":https://epanews.fr/profile/Lar
 cencieldupartage
ATTACH;FMTTYPE="image/jpeg":https://storage.ning.com/topology/rest/1.0
 /file/get/3629492891?profile=original
ATTENDEE;ROLE=REQ-PARTICIPANT;PARTSTAT=ACCEPTED;RSVP=TRUE;CN="L'arc en
  ciel du partage":https://epanews.fr/profile/Larcencieldupartage
END:VEVENT
END:VCALENDAR
