BEGIN:VCALENDAR
PRODID:NingEventWidget-v1
VERSION:2.0
METHOD:PUBLISH
BEGIN:VTIMEZONE
TZID:Europe/Paris
X-LIC-LOCATION:Europe/Paris
BEGIN:DAYLIGHT
TZOFFSETFROM:+0100
TZOFFSETTO:+0200
TZNAME:CEST
DTSTART:19700329T020000
RRULE:FREQ=YEARLY;BYMONTH=3;BYDAY=-1SU
END:DAYLIGHT
BEGIN:STANDARD
TZOFFSETFROM:+0200
TZOFFSETTO:+0100
TZNAME:CET
DTSTART:19701025T030000
RRULE:FREQ=YEARLY;BYMONTH=10;BYDAY=-1SU
END:STANDARD
END:VTIMEZONE
BEGIN:VEVENT
UID:2485226:Event:3051015
DTSTAMP:20260424T085254Z
SUMMARY:Formation magnetisme session 1 par Colette Salvanez
DESCRIPTION:Programme :Lâ€™Ã©thique dâ€™un magnÃ©tiseur, Apprendre les
  bons gestes pour se protÃ©ger,Apprendre Ã  magnÃ©tiser, Ã  ressentir,
  Le dÃ©roulement dâ€™une sÃ©ance,Le travail sur photo â€“ le travail Ã
   distance -Parler dâ€™Ã¢me Ã  Ã¢me (1Ã¨re approche) Il vous sera dÃ©l
 ivrÃ© Ã  chaque fin de session : un livret explicatif ainsi quâ€™un ce
 rtificat de stage.Tarifs (2 jours):AdhÃ©rent 180â‚¬ Non AdhÃ©rent 200â
 ‚¬60â‚¬ d'arrhes RÃ©servationsNadÃ¨ge 06.23.01.35.96Lieu : L'arc en ci
 el du partage1 rue garanciÃ¨re 11100 narbonnewww.larcencieldupartage.o
 rgRepas tirÃ© du chapeau Fiche d'inscription obligatoireAucune inscrip
 tion via fb merci\n\nPour plus d'information, aller sur https://epanew
 s.fr/events/formation-magnetisme-session-1-par-colette-salvanez-2
DTSTART;TZID=Europe/Paris:20200128T100000
DTEND;TZID=Europe/Paris:20200129T180000
CATEGORIES:11
LOCATION:11100 Narbonne
WEBSITE:http://www.larcencieldupartage.org
URL:http://www.larcencieldupartage.org
CONTACT:06.23.01.35.96
ORGANIZER;CN="L'arc en ciel du partage":https://epanews.fr/profile/Lar
 cencieldupartage
ATTACH;FMTTYPE="image/jpeg":https://storage.ning.com/topology/rest/1.0
 /file/get/3788045223?profile=original
ATTENDEE;ROLE=REQ-PARTICIPANT;PARTSTAT=ACCEPTED;RSVP=TRUE;CN="L'arc en
  ciel du partage":https://epanews.fr/profile/Larcencieldupartage
END:VEVENT
END:VCALENDAR
