BEGIN:VCALENDAR
PRODID:NingEventWidget-v1
VERSION:2.0
METHOD:PUBLISH
BEGIN:VTIMEZONE
TZID:Europe/Paris
X-LIC-LOCATION:Europe/Paris
BEGIN:DAYLIGHT
TZOFFSETFROM:+0100
TZOFFSETTO:+0200
TZNAME:CEST
DTSTART:19700329T020000
RRULE:FREQ=YEARLY;BYMONTH=3;BYDAY=-1SU
END:DAYLIGHT
BEGIN:STANDARD
TZOFFSETFROM:+0200
TZOFFSETTO:+0100
TZNAME:CET
DTSTART:19701025T030000
RRULE:FREQ=YEARLY;BYMONTH=10;BYDAY=-1SU
END:STANDARD
END:VTIMEZONE
BEGIN:VEVENT
UID:2485226:Event:2657502
DTSTAMP:20260422T110354Z
SUMMARY:Formation magnetisme session 1&2
DESCRIPTION:Formation magnÃ©tisme 1Ã¨re et 2Ã¨me session par Colette S
 alvanez - du lundi 4 au jeudi 7 juillet 2016 de 9h30 Ã  17h00 #narbonn
 e\nProgramme :\n1Ã¨re session :Â \nLâ€™Ã©thique dâ€™un magnÃ©tiseur,Â 
 \nÂ Apprendre les bons gestes pour se protÃ©ger,Â \nApprendre Ã  magnÃ
 ©tiser, Ã  ressentir,Â \nÂ Le dÃ©roulement dâ€™une sÃ©ance,Â \nLe trav
 ail sur photo â€“ le travail Ã  distance -\nÂ Parler dâ€™Ã¢me Ã  Ã¢me 
 (1Ã¨re approche)Â \n2Ã¨me session :Â \nRÃ©vision dâ€™une sÃ©ance avec 
 une personne, avec mise en situation, Travail Ã  distance avec photo/s
 ans photo,Â \nÂ Apprentissage Ã  la mÃ©ditation,\nComment se servir dâ
 €™un pendule,Â \nApprentissage de la visualisation,\nLes pierres de ba
 seÂ : comment travailler avec,Â \nLâ€™Ã©chelle de bovis,\nComment se r
 Ã©-energiser.Â \nÂ Il vous sera dÃ©livrÃ© Ã  chaque fin de session : u
 n livret explicatif sur clef usb ainsi quâ€™un certificat de stage.Â \
 nRepas tirÃ© du chapeauÂ \nTarifs pour les 4 jours :Â \n360â‚¬ par per
 sonne.\n320â‚¬ par personne pour les couples\nArrhes de 90â‚¬ avec la 
 fiche d'inscription\nInscription : NadÃ¨ge 06.23.01.35.96 ou larcencie
 ldupartage@sfr.fr\nLieu : l'association L'arc en ciel du partage\n1 ru
 e garanciÃ¨re 11100 Narbonne\nwww.larcencieldupartage.org\n\nPour plus
  d'information, aller sur https://epanews.fr/events/formation-magnetis
 me-session-1-2
DTSTART;TZID=Europe/Paris:20160704T093000
DTEND;TZID=Europe/Paris:20160707T170000
CATEGORIES:11
LOCATION:narbonne
WEBSITE:http://www.larcencieldupartage.org
URL:http://www.larcencieldupartage.org
CONTACT:0623013596
ORGANIZER;CN="L'arc en ciel du partage":https://epanews.fr/profile/Lar
 cencieldupartage
ATTACH;FMTTYPE="image/jpeg":http://storage.ning.com/topology/rest/1.0/
 file/get/1663572770?profile=original
ATTENDEE;ROLE=REQ-PARTICIPANT;PARTSTAT=ACCEPTED;RSVP=TRUE;CN="L'arc en
  ciel du partage":https://epanews.fr/profile/Larcencieldupartage
END:VEVENT
END:VCALENDAR
