BEGIN:VCALENDAR
PRODID:NingEventWidget-v1
VERSION:2.0
METHOD:PUBLISH
BEGIN:VTIMEZONE
TZID:Europe/Paris
X-LIC-LOCATION:Europe/Paris
BEGIN:DAYLIGHT
TZOFFSETFROM:+0100
TZOFFSETTO:+0200
TZNAME:CEST
DTSTART:19700329T020000
RRULE:FREQ=YEARLY;BYMONTH=3;BYDAY=-1SU
END:DAYLIGHT
BEGIN:STANDARD
TZOFFSETFROM:+0200
TZOFFSETTO:+0100
TZNAME:CET
DTSTART:19701025T030000
RRULE:FREQ=YEARLY;BYMONTH=10;BYDAY=-1SU
END:STANDARD
END:VTIMEZONE
BEGIN:VEVENT
UID:2485226:Event:2797807
DTSTAMP:20260422T134043Z
SUMMARY:Formation MagnÃ©tisme Session I
DESCRIPTION:Formation magnÃ©tisme session 1 par Colette Salvanez -Â \n
 \nJeudi 2 & vendredi 3 mars 2017\n\nLâ€™Ã©thique dâ€™un magnÃ©tiseur,Â
  \nÂ Apprendre les bons gestes pour se protÃ©ger,Â \nÂ Apprendre Ã  ma
 gnÃ©tiser, Ã  ressentir,Â \nÂ Le dÃ©roulement dâ€™une sÃ©ance,Â \nÂ Le
  travail sur photo â€“ le travail Ã  distance -Â \nÂ Parler dâ€™Ã¢me Ã
   Ã¢me (1Ã¨re approche)Â \n\nÂ Il vous sera dÃ©livrÃ© Ã  chaque fin de
  session : un livret explicatif sur clef usb ainsi quâ€™un certificat 
 de stage.Â \n\nÂ Repas tirÃ© du chapeauÂ \n\nÂ Tarifs : adhÃ©rent 180â
 ‚¬ le we - non adhÃ©rent 200â‚¬ Arrhes 60â‚¬Â \n\nÂ Fiche d'inscriptio
 n obligatoireÂ \n\nÂ Inscriptions NadÃ¨ge 06.23.01.35.96 ou larcenciel
 dupartage@sfr.frÂ \n\nL'arc en ciel du partage 1 rue garanciÃ¨re 11100
  narbonneÂ \n\nwww.larcencieldupartage.org\n\nPour plus d'information,
  aller sur https://epanews.fr/events/formation-magn-tisme-session-i
DTSTART;TZID=Europe/Paris:20170302T000000
DTEND;TZID=Europe/Paris:20170303T235900
CATEGORIES:11
LOCATION:L'Arc en ciel du partage
WEBSITE:http://www.larcencieldupartage.org
URL:http://www.larcencieldupartage.org
CONTACT:0623013596
ORGANIZER;CN="L'arc en ciel du partage":https://epanews.fr/profile/Lar
 cencieldupartage
ATTACH;FMTTYPE="image/jpeg":http://storage.ning.com/topology/rest/1.0/
 file/get/1663648249?profile=original
ATTENDEE;ROLE=REQ-PARTICIPANT;PARTSTAT=ACCEPTED;RSVP=TRUE;CN="L'arc en
  ciel du partage":https://epanews.fr/profile/Larcencieldupartage
END:VEVENT
END:VCALENDAR
