BEGIN:VCALENDAR
PRODID:NingEventWidget-v1
VERSION:2.0
METHOD:PUBLISH
BEGIN:VTIMEZONE
TZID:Europe/Paris
X-LIC-LOCATION:Europe/Paris
BEGIN:DAYLIGHT
TZOFFSETFROM:+0100
TZOFFSETTO:+0200
TZNAME:CEST
DTSTART:19700329T020000
RRULE:FREQ=YEARLY;BYMONTH=3;BYDAY=-1SU
END:DAYLIGHT
BEGIN:STANDARD
TZOFFSETFROM:+0200
TZOFFSETTO:+0100
TZNAME:CET
DTSTART:19701025T030000
RRULE:FREQ=YEARLY;BYMONTH=10;BYDAY=-1SU
END:STANDARD
END:VTIMEZONE
BEGIN:VEVENT
UID:2485226:Event:2222699
DTSTAMP:20260421T012344Z
SUMMARY:Formation magnétisme 3ème session
DESCRIPTION:Formation magnétisme 3ème session, par Colette salvanez 
   #\nWe 23 & 24 Mai 2015 de 9h30 à 18h00  #\n \nApprendre à gére
 r sa parole (sophro-magnétisme),   #Méditation,  #Apprendre à dif
 fuser son magnétisme intérieur,   #Apprendre pour les personnes dan
 s le coma,   #Lithothérapie, acupuncture, chromatothérapie, pendule
    #Comment marche la médiumnité, télépathie, liens éthériques 
  #\nIl vous sera délivré à chaque fin de session : un livret expli
 catif ainsi qu’un certificat de stage.  #Repas tiré du chapeau  #
 \n \nTarif 180€ les 2 jours   #\nArrhes de 60€ à l'inscription\
 n \nDemander fiche d'inscription : larcencieldupartage@sfr.fr    #\
 n \nL'arc en ciel du Partage   #\n1 rue garancière    #\n11100 na
 rbonne    #\n\nPour plus d'information, aller sur https://epanews.fr
 /events/formation-magn-tisme-3-me-session-1
DTSTART;TZID=Europe/Paris:20150523T093000
DTEND;TZID=Europe/Paris:20150524T180000
CATEGORIES:11
LOCATION:narbonne
WEBSITE:http://www.larcencieldupartage.org
URL:http://www.larcencieldupartage.org
CONTACT:0623013596
ORGANIZER;CN="L'arc en ciel du partage":https://epanews.fr/profile/Lar
 cencieldupartage
ATTACH;FMTTYPE="image/jpeg":http://storage.ning.com/topology/rest/1.0/
 file/get/1663325650?profile=original
ATTENDEE;ROLE=REQ-PARTICIPANT;PARTSTAT=ACCEPTED;RSVP=TRUE;CN="L'arc en
  ciel du partage":https://epanews.fr/profile/Larcencieldupartage
END:VEVENT
END:VCALENDAR
