BEGIN:VCALENDAR
PRODID:NingEventWidget-v1
VERSION:2.0
METHOD:PUBLISH
BEGIN:VTIMEZONE
TZID:Europe/Paris
X-LIC-LOCATION:Europe/Paris
BEGIN:DAYLIGHT
TZOFFSETFROM:+0100
TZOFFSETTO:+0200
TZNAME:CEST
DTSTART:19700329T020000
RRULE:FREQ=YEARLY;BYMONTH=3;BYDAY=-1SU
END:DAYLIGHT
BEGIN:STANDARD
TZOFFSETFROM:+0200
TZOFFSETTO:+0100
TZNAME:CET
DTSTART:19701025T030000
RRULE:FREQ=YEARLY;BYMONTH=10;BYDAY=-1SU
END:STANDARD
END:VTIMEZONE
BEGIN:VEVENT
UID:2485226:Event:2657453
DTSTAMP:20260421T113127Z
SUMMARY:Formation magnÃ©tisme 1ere session
DESCRIPTION:Formation magnÃ©tisme 1Ã¨re session par Colette Salvanez -
 Â \nwe des 10 & 11 Septembre 2016 de 9h30 Ã  18h00Â \nLâ€™Ã©thique dâ€
 ™un magnÃ©tiseur,Â \nÂ Apprendre les bons gestes pour se protÃ©ger,Â \
 nApprendre Ã  magnÃ©tiser, Ã  ressentir,Â \nÂ Le dÃ©roulement dâ€™une 
 sÃ©ance,Â \nLe travail sur photo â€“ le travail Ã  distance -Â \nParle
 r dâ€™Ã¢me Ã  Ã¢me (1Ã¨re approche)Â \nÂ Il vous sera dÃ©livrÃ© Ã  cha
 que fin de session : un livret explicatif ainsi quâ€™un certificat de 
 stage.Â \nRepas tirÃ© du chapeau\nTarifs : 180â‚¬ le we - Arrhes 60â‚¬
 \nFiche d'inscription obligatoire\nInscriptions NadÃ¨ge 06.23.01.35.96
  ou larcencieldupartage@sfr.frÂ \nL'arc en ciel du partage\n1 rue gara
 nciÃ¨re 11100 narbonne\nwww.larcencieldupartage.org\n\nPour plus d'inf
 ormation, aller sur https://epanews.fr/events/formation-magn-tisme-1er
 e-session
DTSTART;TZID=Europe/Paris:20160910T093000
DTEND;TZID=Europe/Paris:20160911T180000
CATEGORIES:11
LOCATION:narbonne
WEBSITE:http://www.larcencieldupartage.org
URL:http://www.larcencieldupartage.org
CONTACT:0623013596
ORGANIZER;CN="L'arc en ciel du partage":https://epanews.fr/profile/Lar
 cencieldupartage
ATTACH;FMTTYPE="image/jpeg":http://storage.ning.com/topology/rest/1.0/
 file/get/1663572138?profile=original
ATTENDEE;ROLE=REQ-PARTICIPANT;PARTSTAT=ACCEPTED;RSVP=TRUE;CN="L'arc en
  ciel du partage":https://epanews.fr/profile/Larcencieldupartage
END:VEVENT
END:VCALENDAR
