BEGIN:VCALENDAR
PRODID:NingEventWidget-v1
VERSION:2.0
METHOD:PUBLISH
BEGIN:VTIMEZONE
TZID:Europe/Paris
X-LIC-LOCATION:Europe/Paris
BEGIN:DAYLIGHT
TZOFFSETFROM:+0100
TZOFFSETTO:+0200
TZNAME:CEST
DTSTART:19700329T020000
RRULE:FREQ=YEARLY;BYMONTH=3;BYDAY=-1SU
END:DAYLIGHT
BEGIN:STANDARD
TZOFFSETFROM:+0200
TZOFFSETTO:+0100
TZNAME:CET
DTSTART:19701025T030000
RRULE:FREQ=YEARLY;BYMONTH=10;BYDAY=-1SU
END:STANDARD
END:VTIMEZONE
BEGIN:VEVENT
UID:2485226:Event:2861739
DTSTAMP:20260421T230016Z
SUMMARY:Formation Lithothérapie - développement personnel
DESCRIPTION:L objectif de ces formations est de vous permettre d accé
 der à plus de conscience de vous-même, de travailler sur vos croyanc
 es, de découvrir qui vous êtes réellement , d apprendre à vous aim
 er et à vous respecter.\nComme outil d accompagnement, nous avons cho
 isi d utiliser les pierres énergétiques, d étudier les chakras et l
 es pierres correspondantes, avec une grande collection de minéraux vo
 us permettant des les toucher, de les ressentir, de s exercer connaît
 re et reconnaître chaque pierre.\n\nPour plus d'information, aller su
 r https://epanews.fr/events/formation-lithoth-rapie-d-veloppement-pers
 onnel
DTSTART;TZID=Europe/Paris:20170909T093000
DTEND;TZID=Europe/Paris:20170910T173000
CATEGORIES:06000
LOCATION:Nice.
WEBSITE:
URL:
CONTACT:0624623278
ORGANIZER;CN=Contal:https://epanews.fr/profile/Contal
ATTACH;FMTTYPE="image/jpeg":http://storage.ning.com/topology/rest/1.0/
 file/get/1663683378?profile=original
ATTENDEE;ROLE=REQ-PARTICIPANT;PARTSTAT=ACCEPTED;RSVP=TRUE;CN=Contal:ht
 tps://epanews.fr/profile/Contal
END:VEVENT
END:VCALENDAR
