BEGIN:VCALENDAR
PRODID:NingEventWidget-v1
VERSION:2.0
METHOD:PUBLISH
BEGIN:VTIMEZONE
TZID:Europe/Paris
X-LIC-LOCATION:Europe/Paris
BEGIN:DAYLIGHT
TZOFFSETFROM:+0100
TZOFFSETTO:+0200
TZNAME:CEST
DTSTART:19700329T020000
RRULE:FREQ=YEARLY;BYMONTH=3;BYDAY=-1SU
END:DAYLIGHT
BEGIN:STANDARD
TZOFFSETFROM:+0200
TZOFFSETTO:+0100
TZNAME:CET
DTSTART:19701025T030000
RRULE:FREQ=YEARLY;BYMONTH=10;BYDAY=-1SU
END:STANDARD
END:VTIMEZONE
BEGIN:VEVENT
UID:2485226:Event:180649
DTSTAMP:20260424T132213Z
SUMMARY:Formation Life Upgrade, Expansion de Vie, une nouvelle faÃ§on 
 d'Ãªtre!
DESCRIPTION:\nLife Upgrade\nwww.lifeupgrade.fr\nUn systÃ¨me tout nouve
 au en France et Ã  la pointe des mÃ©thodes de psychologies Ã©nergÃ©tiq
 ues.\nPlutÃ´t quâ€™une procÃ©dure longue et complexe pour analyser et 
 creuser sans fin le passÃ©, Life Upgrade offre une approche simple qui
  nous dÃ©sengage des informations codÃ©es du passÃ© et nous permet dâ€
 ˜Ãªtre Â« mis Ã  jour Â» afin dâ€™ouvrir notre conscience et notre coe
 ur Ã  notre immense potentiel de crÃ©ation, dâ€™intelligence et dâ€™am
 our.Câ€™est un systÃ¨me unique! Il se base sur le postulat que la rÃ©a
 litÃ© est crÃ©Ã©e par des champs morphiques qui faÃ§onnent la matiÃ¨re
  en fonction de lâ€™information quâ€™ils contiennent. La conscience ou
  pensÃ©e affecte la forme de ce champ et maintient alors la rÃ©alitÃ© 
 dans une forme prÃ©cise.Life Upgrade nous libÃ¨re du mental, du passÃ©
 , de nos programmes subconscients et nous ouvre la possibilitÃ© de crÃ
 ©er une rÃ©alitÃ© plus harmonieuse en accÃ©dant Ã  un vaste champ dâ€™
 intelligence dâ€™oÃ¹ toutes les choses prennent forme.Un changement ga
 ranti de paradigme, de perspective, de regard sur le monde. Un bascule
 ment permanent de la conscience!\nStages de formation (3 jours) dans l
 a France entiÃ¨re )- 390â‚¬\nInscriptions et renseignements: sophie@li
 feupgrade.fr - www.lifeupgrade.fr\n\nPour plus d'information, aller su
 r https://epanews.fr/events/formation-life-upgrade-2
DTSTART;TZID=Europe/Paris:20110121T000000
DTEND;TZID=Europe/Paris:20110123T235900
CATEGORIES:06
LOCATION:Nice
WEBSITE:http://www.lifeupgrade.fr
URL:http://www.lifeupgrade.fr
CONTACT:0434404570
ORGANIZER;CN=sophietheta:https://epanews.fr/profile/sophietheta
ATTACH;FMTTYPE="image/jpeg":http://storage.ning.com/topology/rest/1.0/
 file/get/1662371567?profile=original
ATTENDEE;ROLE=REQ-PARTICIPANT;PARTSTAT=ACCEPTED;RSVP=TRUE;CN=sophiethe
 ta:https://epanews.fr/profile/sophietheta
END:VEVENT
END:VCALENDAR
