BEGIN:VCALENDAR
PRODID:NingEventWidget-v1
VERSION:2.0
METHOD:PUBLISH
BEGIN:VTIMEZONE
TZID:Europe/Paris
X-LIC-LOCATION:Europe/Paris
BEGIN:DAYLIGHT
TZOFFSETFROM:+0100
TZOFFSETTO:+0200
TZNAME:CEST
DTSTART:19700329T020000
RRULE:FREQ=YEARLY;BYMONTH=3;BYDAY=-1SU
END:DAYLIGHT
BEGIN:STANDARD
TZOFFSETFROM:+0200
TZOFFSETTO:+0100
TZNAME:CET
DTSTART:19701025T030000
RRULE:FREQ=YEARLY;BYMONTH=10;BYDAY=-1SU
END:STANDARD
END:VTIMEZONE
BEGIN:VEVENT
UID:2485226:Event:2936489
DTSTAMP:20260425T044617Z
SUMMARY:les danses de la chamane
DESCRIPTION:Les danses de la chamane®™ est un cursus d'enseignement
  sur 2 ans autour des pratiques ancestrales de guérison et de la mét
 hode mise en place par la chorégraphe Flo Kardinal  Cet enseignement
  vous permettra d'exercer d'accompagner les personnes et de développe
 r votre potentiel créatf. Le cycle regroupe sur une année  4 MARCHES
  © chacune d'entre elles est accompagnée d'un LIVRET 1 à 2 SOINS RE
 SSOURCES individuels© selon le cycle2 journées de pratiquesupplémen
 taires  pour le cycle 2  Un suivi personnalisé par mail\n2 web conf
 érence our els étudiants du cursus  La singularité du cycle /Flo Ka
 rdinal , vous invite à pénétrer un cycle de transformation par la r
 éalisation d’oeuvres . A qui ce cycle s'adresse t il? * \"A des pe
 rsonnes qui désirent se rapprocher de leur essence originale afin de 
 s'exprimer en acte et parole au plus juste d'elles mêmes\" * A des th
 érapeutes qui désirent diversifier leurs outils de guérison. *A des
 artistes qui souhaitent augmenter leur potentiel créateur Une charte 
 est signée en début de chaque cycle .\nLes outilsutilisés:\nLa tran
 se corporelle et vocale, la posture de l'être canal, l'utilisation de
  l'instrument de musique de la transe, les rituels de préparations et
  de guérisons, le voyage chamanqiue,la posture du thérapeute  le so
 in à soi même et à l'autre .\nL'AGENDA DU CYCLE  http://www.flokar
 dinal.org/wordpress/?page_id=1515   Tous les détails et LES INSCRIPT
 IONS  http://www.flokardinal.org/wordpress/?page_id=511   Bio de l'a
 rtiste et chamane  http://www.flokardinal.org/wordpress/?page_id=90\n
 \nPour plus d'information, aller sur https://epanews.fr/events/formati
 on-les-danses-de-la-chamane
DTSTART;TZID=Europe/Paris:20180929T000000
DTEND;TZID=Europe/Paris:20180930T235900
CATEGORIES:tous
LOCATION:Salle Forêt de Badondey
WEBSITE:http://75011 Paris
URL:http://75011 Paris
CONTACT:0626801130
ORGANIZER;CN="Flo Kardinal":https://epanews.fr/profile/FloKardinal
ATTACH;FMTTYPE="image/jpeg":http://storage.ning.com/topology/rest/1.0/
 file/get/1663725730?profile=original
ATTENDEE;ROLE=REQ-PARTICIPANT;PARTSTAT=ACCEPTED;RSVP=TRUE;CN="Flo Kard
 inal":https://epanews.fr/profile/FloKardinal
END:VEVENT
END:VCALENDAR
