BEGIN:VCALENDAR
PRODID:NingEventWidget-v1
VERSION:2.0
METHOD:PUBLISH
BEGIN:VTIMEZONE
TZID:Europe/Paris
X-LIC-LOCATION:Europe/Paris
BEGIN:DAYLIGHT
TZOFFSETFROM:+0100
TZOFFSETTO:+0200
TZNAME:CEST
DTSTART:19700329T020000
RRULE:FREQ=YEARLY;BYMONTH=3;BYDAY=-1SU
END:DAYLIGHT
BEGIN:STANDARD
TZOFFSETFROM:+0200
TZOFFSETTO:+0100
TZNAME:CET
DTSTART:19701025T030000
RRULE:FREQ=YEARLY;BYMONTH=10;BYDAY=-1SU
END:STANDARD
END:VTIMEZONE
BEGIN:VEVENT
UID:2485226:Event:512454
DTSTAMP:20260422T221131Z
SUMMARY:Formation à la numérologie humaniste
DESCRIPTION:Formation à la Numérologie Humaniste en trois week-end.\
 nEtude des nombres, analyse des noms et des prénoms,\nles grands cycl
 es de vie,l'année personnelle.\nL'étude des vibrations du chemin de 
 vie.\nComment mettre à profit les périodes favorables de notre desti
 n.\n\nPour plus d'information, aller sur https://epanews.fr/events/for
 mation-la-num-rologie-humaniste
DTSTART;TZID=Europe/Paris:20111015T000000
DTEND;TZID=Europe/Paris:20111016T235900
CATEGORIES:34
LOCATION:BEZIERS
WEBSITE:
URL:
CONTACT:04 67 37 42 94
ORGANIZER;CN="DUVAL Lyliane":https://epanews.fr/profile/DUVALLyliane
ATTACH;FMTTYPE="image/jpeg":http://storage.ning.com/topology/rest/1.0/
 file/get/1662456524?profile=original
ATTENDEE;ROLE=REQ-PARTICIPANT;PARTSTAT=ACCEPTED;RSVP=TRUE;CN="DUVAL Ly
 liane":https://epanews.fr/profile/DUVALLyliane
END:VEVENT
END:VCALENDAR
