BEGIN:VCALENDAR
PRODID:NingEventWidget-v1
VERSION:2.0
METHOD:PUBLISH
BEGIN:VTIMEZONE
TZID:Europe/Paris
X-LIC-LOCATION:Europe/Paris
BEGIN:DAYLIGHT
TZOFFSETFROM:+0100
TZOFFSETTO:+0200
TZNAME:CEST
DTSTART:19700329T020000
RRULE:FREQ=YEARLY;BYMONTH=3;BYDAY=-1SU
END:DAYLIGHT
BEGIN:STANDARD
TZOFFSETFROM:+0200
TZOFFSETTO:+0100
TZNAME:CET
DTSTART:19701025T030000
RRULE:FREQ=YEARLY;BYMONTH=10;BYDAY=-1SU
END:STANDARD
END:VTIMEZONE
BEGIN:VEVENT
UID:2485226:Event:2871818
DTSTAMP:20260421T234844Z
SUMMARY:Formation à la journée lifting énergétique d'Access
DESCRIPTION:Ce lifting peut inversé les effets du vieillissement du v
 isage et aussi agir sur les effets du vieillissement du corps.\nPour p
 lus d'info je vous invite à visiter mon site\n\nPour plus d'informati
 on, aller sur https://epanews.fr/events/formation-la-journ-e-lifting-n
 erg-tique-d-access
DTSTART;TZID=Europe/Paris:20170924T000000
DTEND;TZID=Europe/Paris:20170924T235900
CATEGORIES:38
LOCATION:Grenoble
WEBSITE:http://www.moniquepoitrat.net/formation/
URL:http://www.moniquepoitrat.net/formation/
CONTACT:
ORGANIZER:
ATTACH;FMTTYPE="image/jpeg":http://storage.ning.com/topology/rest/1.0/
 file/get/1663687972?profile=original
ATTENDEE;ROLE=REQ-PARTICIPANT;PARTSTAT=ACCEPTED;RSVP=TRUE;CN=Monique:h
 ttps://epanews.fr/profile/Mony114
END:VEVENT
END:VCALENDAR
