BEGIN:VCALENDAR
PRODID:NingEventWidget-v1
VERSION:2.0
METHOD:PUBLISH
BEGIN:VTIMEZONE
TZID:Europe/Paris
X-LIC-LOCATION:Europe/Paris
BEGIN:DAYLIGHT
TZOFFSETFROM:+0100
TZOFFSETTO:+0200
TZNAME:CEST
DTSTART:19700329T020000
RRULE:FREQ=YEARLY;BYMONTH=3;BYDAY=-1SU
END:DAYLIGHT
BEGIN:STANDARD
TZOFFSETFROM:+0200
TZOFFSETTO:+0100
TZNAME:CET
DTSTART:19701025T030000
RRULE:FREQ=YEARLY;BYMONTH=10;BYDAY=-1SU
END:STANDARD
END:VTIMEZONE
BEGIN:VEVENT
UID:2485226:Event:1501200
DTSTAMP:20260420T022908Z
SUMMARY:Formation à la facilitation relationnelle
DESCRIPTION:Formation à la Facilitation Relationnelle\nDans le cadre 
 de notre formation pour développer la facilitation relationnelle, qui
  démarre en octobre, un atelier découverte aura lieu au:\nLoft Zen, 
 12, rue Gigodot  69004 Lyon\nLe samedi 14 septembre de 15h à 18h .\n
 Cet atelier est gratuit, sur inscription.\nNotre dernier atelier déco
 uverte ayant remporté un franc succès, celui-ci sera à nouveau l'oc
 casion pour les personnes intéressées par notre formation de s'en fa
 ire une idée plus précise.\nPour toute demande de renseignement : Vo
 ir la page.\n Jacqueline HECHT\nThérapeute en Thérapie Brève Inté
 grative\n06 734 738 09\nj.hecht@psychotherapiebreve.fr\nhttp://therapi
 e-breve-integrative.com/\n\n\nPour plus d'information, aller sur https
 ://epanews.fr/events/formation-la-facilitation-relationnelle
DTSTART;TZID=Europe/Paris:20130914T150000
DTEND;TZID=Europe/Paris:20130914T180000
CATEGORIES:69
LOCATION:Loft-Zen, lyon 4èm
WEBSITE:http://goo.gl/maps/rpjcy
URL:http://goo.gl/maps/rpjcy
CONTACT:06 734 738 09
ORGANIZER:Jacqueline HECHT
ATTACH;FMTTYPE="image/jpeg":http://storage.ning.com/topology/rest/1.0/
 file/get/1662912725?profile=original
ATTENDEE;ROLE=REQ-PARTICIPANT;PARTSTAT=ACCEPTED;RSVP=TRUE;CN="grandmai
 son audrey":https://epanews.fr/profile/grandmaisonaudrey
ATTENDEE;ROLE=REQ-PARTICIPANT;PARTSTAT=ACCEPTED;RSVP=TRUE;CN=gem-masse
 r:https://epanews.fr/profile/gem_masser
END:VEVENT
END:VCALENDAR
