BEGIN:VCALENDAR
PRODID:NingEventWidget-v1
VERSION:2.0
METHOD:PUBLISH
BEGIN:VTIMEZONE
TZID:Europe/Paris
X-LIC-LOCATION:Europe/Paris
BEGIN:DAYLIGHT
TZOFFSETFROM:+0100
TZOFFSETTO:+0200
TZNAME:CEST
DTSTART:19700329T020000
RRULE:FREQ=YEARLY;BYMONTH=3;BYDAY=-1SU
END:DAYLIGHT
BEGIN:STANDARD
TZOFFSETFROM:+0200
TZOFFSETTO:+0100
TZNAME:CET
DTSTART:19701025T030000
RRULE:FREQ=YEARLY;BYMONTH=10;BYDAY=-1SU
END:STANDARD
END:VTIMEZONE
BEGIN:VEVENT
UID:2485226:Event:1778883
DTSTAMP:20260422T024549Z
SUMMARY:Eveil de la conscience
DESCRIPTION:Etes-vous prêt(e) à apprendre une méthode FACILE, AGRE
 ABLE et PUISSANTE qui peut changer votre vie ? \n \nLa méthode A
 ccess Consciousness Bars consiste en l'activation avec les doigts de 
 32 points situés sur la tête pendant plus ou moins 5 minutes, ce qui
  permet de relâcher et libérer tensions, blocages ou mémoires (réc
 entes ou très anciennes), programmes limitants dans le domaine de l'a
 rgent, la créativité, la santé, les relations... Il n'y a pas besoi
 n de savoir ce qu'on débloque, pas besoin de verbaliser, tout se fait
  en douceur et tout ce qu'on est prêt à lâcher ce jour-là peut êt
 re libéré. La séance dure environ 1 heure en position allongée ou 
 assise.\n \nLa méthode Access Consciousness a été créée il y a 
 20 ans aux Etats-Unis par Gary Douglas.\n \nLe déroulement d'une jou
 rnée de formation (Paris 18e) de 9h30 à 18h30 est le suivant :\n \
 n- Lecture de la vidéo de G. Douglas et son partenaire Dain Heer av
 ec explication des points à activer\n- Pratique d'un échange entre p
 articipants : l'un (e) donne l'autre reçoit et vice-versa\n- Repas\n-
  Pratique d'un autre échange\n \nUn manuel très détaillé vous est
  remis en français ou en anglais (à préciser à l'inscription) avec
  explication des points à activer, ainsi qu'un certificat qui vous pe
 rmet de re-transmettre immédiatement, soit à vos proches soit à vos
  clients/patients.\n \nCette méthode est également adaptée aux enf
 ants et adolescents. Pratiquer en famille permet d'apporter plus d'har
 monie entre les membres !\n \nSi la méthode vous séduit, vous pouve
 z devenir \"facilitateur\" après avoir effectué 3 formations de Bars
  avec 3 formateurs différents. Le coût de cette formation est de 160
  €, à partir de la 2ème, le tarif est de 80 €.\n \nSi vous voul
 ez \"goûter\" aux \"Bars\" avant de vous lancer dans une formation, j
 e vous propose de me contacter pour un RDV individuel d'environ 1 heur
 e (60 €) au 06 95 75 27 44. Je suis également disponible pour tout
 e autre information ou question.\n \n\nPour plus d'information, aller
  sur https://epanews.fr/events/formation-l-eveil-de-la-conscience-3
DTSTART;TZID=Europe/Paris:20140308T093000
DTEND;TZID=Europe/Paris:20140308T183000
CATEGORIES:75
LOCATION:Paris 18
WEBSITE:http://www.energiecristal.com
URL:http://www.energiecristal.com
CONTACT:0695752744
ORGANIZER;CN=Jocelyne:https://epanews.fr/profile/FAURIE
ATTACH;FMTTYPE="image/jpeg":
ATTENDEE;ROLE=REQ-PARTICIPANT;PARTSTAT=ACCEPTED;RSVP=TRUE;CN=Jocelyne:
 https://epanews.fr/profile/FAURIE
END:VEVENT
END:VCALENDAR
