BEGIN:VCALENDAR
PRODID:NingEventWidget-v1
VERSION:2.0
METHOD:PUBLISH
BEGIN:VTIMEZONE
TZID:Europe/Paris
X-LIC-LOCATION:Europe/Paris
BEGIN:DAYLIGHT
TZOFFSETFROM:+0100
TZOFFSETTO:+0200
TZNAME:CEST
DTSTART:19700329T020000
RRULE:FREQ=YEARLY;BYMONTH=3;BYDAY=-1SU
END:DAYLIGHT
BEGIN:STANDARD
TZOFFSETFROM:+0200
TZOFFSETTO:+0100
TZNAME:CET
DTSTART:19701025T030000
RRULE:FREQ=YEARLY;BYMONTH=10;BYDAY=-1SU
END:STANDARD
END:VTIMEZONE
BEGIN:VEVENT
UID:2485226:Event:2631951
DTSTAMP:20260421T195554Z
SUMMARY:Formation Kinésiologie Vinon sur Verdon Septembre 2016
DESCRIPTION:La Formation EFKP constitue une compilation des différe
 ntes kinésiologies et offre l’opportunité d’orienter sa vie vers
  une nouvelle carrière\nLes méthodes kinésiologiques associées per
 mettent de développer le potentiel professionnel \nSTRUCTURE DE LA F
 ORMATION\n600 h de cours pratiques et théoriques répartis en 25 st
 ages de 3 jours par mois\nCette formation est accessible à toute pe
 rsonne majeure\n\nPour plus d'information, aller sur https://epanews.f
 r/events/formation-kin-siologie-vinon-sur-verdon-septembre-2016
DTSTART;TZID=Europe/Paris:20160902T000000
DTEND;TZID=Europe/Paris:20160904T235900
CATEGORIES:83
LOCATION:Moulin de Saint André
WEBSITE:https://www.google.fr/maps?source=tldsi&hl=fr
URL:https://www.google.fr/maps?source=tldsi&hl=fr
CONTACT:0683842397
ORGANIZER;CN="OPHOVEN Bernard":https://epanews.fr/profile/OPHOVENBerna
 rd
ATTACH;FMTTYPE="image/jpeg":http://storage.ning.com/topology/rest/1.0/
 file/get/1663559492?profile=original
ATTENDEE;ROLE=REQ-PARTICIPANT;PARTSTAT=ACCEPTED;RSVP=TRUE;CN="OPHOVEN 
 Bernard":https://epanews.fr/profile/OPHOVENBernard
END:VEVENT
END:VCALENDAR
