BEGIN:VCALENDAR
PRODID:NingEventWidget-v1
VERSION:2.0
METHOD:PUBLISH
BEGIN:VTIMEZONE
TZID:Europe/Paris
X-LIC-LOCATION:Europe/Paris
BEGIN:DAYLIGHT
TZOFFSETFROM:+0100
TZOFFSETTO:+0200
TZNAME:CEST
DTSTART:19700329T020000
RRULE:FREQ=YEARLY;BYMONTH=3;BYDAY=-1SU
END:DAYLIGHT
BEGIN:STANDARD
TZOFFSETFROM:+0200
TZOFFSETTO:+0100
TZNAME:CET
DTSTART:19701025T030000
RRULE:FREQ=YEARLY;BYMONTH=10;BYDAY=-1SU
END:STANDARD
END:VTIMEZONE
BEGIN:VEVENT
UID:2485226:Event:1851917
DTSTAMP:20260421T204629Z
SUMMARY:Formation intensive au massage indien ayurvédique
DESCRIPTION:Bonjour à tous !  Dans un cadre de nature, de ressourceme
 nt et de convivialité, je vous propose d'apprendre à recevoir et à 
 donner un massage ayurvédique complet de grande qualité !  Contenu d
 u stage : Ce stage d’initiation est ouvert à tous les niveaux : dé
 couvrez ou perfectionnez le massage traditionnel de l’Inde ainsi que
  quelques secrets de santé selon l’Ayurvéda, système de santé mi
 llénaire de l'Inde reconnu par l'O.M.S.   Au cours de cette semaine, 
 vous pourrez pratiquer  les massages du dos, de la nuque, des bras, de
 s jambes et des pieds, crâne, visage, buste et ventre.  Et chaque jou
 r : yoga, méditation, prendre soin de vous, massage ayurvédique, tem
 ps libre en nature...  Horaires : Du lundi 14 juillet 2014 à 10h00 Au
  dimanche 20 juillet 2014 à 15h00   Repas : Midi : repas indien élab
 oré ensemble Soir : élaborés par nos hôtes avec les produits  biol
 ogiques de la ferme   Hébergement : En tentes ou en tipis chauffés a
 u poêle à bois  Ou bien dans votre propre tente  Inscriptions et ren
 seignements par mail kdifoggia@yahoo.fr ou par téléphone 06 24 41 01
  86  J'espère vous retrouver ou vous rencontrer lors de cette semaine
  de partage, de soin et de bien-être !  Karl   Tarifs : - Prix du sta
 ge (animation) : 650€ si inscription avant le 1er juin, 750€ aprè
 s cette date  - Hébergement et 1/2 pension : 43€ par nuit par perso
 nne  Lieu : Ferme de Rony 411 Route de Rochetière 38250 Saint-Nizier-
 du-Moucherotte\n\nPour plus d'information, aller sur https://epanews.f
 r/events/formation-intensive-au-massage-indien-ayurv-dique
DTSTART;TZID=Europe/Paris:20140714T100000
DTEND;TZID=Europe/Paris:20140720T150000
CATEGORIES:38
LOCATION:Ferme de Rony
WEBSITE:http://www.karldifoggia.fr
URL:http://www.karldifoggia.fr
CONTACT:0624410186
ORGANIZER;CN="Karl Di Foggia":https://epanews.fr/profile/KarlDiFoggia
ATTACH;FMTTYPE="image/jpeg":http://storage.ning.com/topology/rest/1.0/
 file/get/1663100324?profile=original
ATTENDEE;ROLE=REQ-PARTICIPANT;PARTSTAT=ACCEPTED;RSVP=TRUE;CN="Karl Di 
 Foggia":https://epanews.fr/profile/KarlDiFoggia
END:VEVENT
END:VCALENDAR
