BEGIN:VCALENDAR
PRODID:NingEventWidget-v1
VERSION:2.0
METHOD:PUBLISH
BEGIN:VTIMEZONE
TZID:Europe/Paris
X-LIC-LOCATION:Europe/Paris
BEGIN:DAYLIGHT
TZOFFSETFROM:+0100
TZOFFSETTO:+0200
TZNAME:CEST
DTSTART:19700329T020000
RRULE:FREQ=YEARLY;BYMONTH=3;BYDAY=-1SU
END:DAYLIGHT
BEGIN:STANDARD
TZOFFSETFROM:+0200
TZOFFSETTO:+0100
TZNAME:CET
DTSTART:19701025T030000
RRULE:FREQ=YEARLY;BYMONTH=10;BYDAY=-1SU
END:STANDARD
END:VTIMEZONE
BEGIN:VEVENT
UID:2485226:Event:2356576
DTSTAMP:20260423T164519Z
SUMMARY:Formation/Initiation Reiki 1 degré
DESCRIPTION:Programme: \nCe qu’est que le Reiki, son histoire Comm
 ent se faire un auto-traitementLe détail des positions des mainsComme
 nt travailler pendant 21 jours de suite avec le reiki lors de son auto
 -traitement.Le protocole pour donner un soin aux autres.Le détail des
  positions des mainsLes chakrasLe traitement rapideLes 5 idéaux Reiki
 Comment donner du reiki aux animaux, aux plantes, aux aliments...\nTar
 if: 200 euros\n\nPour plus d'information, aller sur https://epanews.fr
 /events/formation-initiation-reiki-1-degr
DTSTART;TZID=Europe/Paris:20150704T100000
DTEND;TZID=Europe/Paris:20150704T170000
CATEGORIES:84830
LOCATION:Orange
WEBSITE:
URL:
CONTACT:
ORGANIZER;CN=Virginie:https://epanews.fr/profile/ReflexeRelaxation
ATTACH;FMTTYPE="image/jpeg":http://storage.ning.com/topology/rest/1.0/
 file/get/1663414710?profile=original
ATTENDEE;ROLE=REQ-PARTICIPANT;PARTSTAT=ACCEPTED;RSVP=TRUE;CN=Virginie:
 https://epanews.fr/profile/ReflexeRelaxation
END:VEVENT
END:VCALENDAR
