BEGIN:VCALENDAR
PRODID:NingEventWidget-v1
VERSION:2.0
METHOD:PUBLISH
BEGIN:VTIMEZONE
TZID:Europe/Paris
X-LIC-LOCATION:Europe/Paris
BEGIN:DAYLIGHT
TZOFFSETFROM:+0100
TZOFFSETTO:+0200
TZNAME:CEST
DTSTART:19700329T020000
RRULE:FREQ=YEARLY;BYMONTH=3;BYDAY=-1SU
END:DAYLIGHT
BEGIN:STANDARD
TZOFFSETFROM:+0200
TZOFFSETTO:+0100
TZNAME:CET
DTSTART:19701025T030000
RRULE:FREQ=YEARLY;BYMONTH=10;BYDAY=-1SU
END:STANDARD
END:VTIMEZONE
BEGIN:VEVENT
UID:2485226:Event:936500
DTSTAMP:20260419T194357Z
SUMMARY:Formation sur les thérapies énergétiques
DESCRIPTION:Les thérapies énergétiques et vibratoires font parties 
 aujourd'hui de ces thérapies dites \"Quantiques », reposant\ncertes,
  sur la tradition ancestrale, mais aussi sur la vision, plus actuelle,
  holographique et multidimensionnelle de l'univers. Pour cette\nraison
 , cette formation s'adresse à toutes personnes, futurs thérapeutes o
 u pas, désireuses de participer à l'évolution planétaire d'hommes 
 et de femmes conscients de leurs\npotentialités émotionnelles, éner
 gétiques et spirituelles.\nCette formation se compose de 4 modules, p
 ermettant d'avancer progressivement dans l'apprentissage de la lecture
  holographique et « Quantique » des corps d'énergie. Vous développ
 erez, des perceptions dans la vision multidimensionnelle de l'être 
 et participerez ainsi à l'émergence d'une biologie vibratoire en ple
 ine mutation.\n\n\n\n\nPour plus d'information, aller sur https://epan
 ews.fr/events/formation-en-therapie-energetique
DTSTART;TZID=Europe/Paris:20121115T210000
DTEND;TZID=Europe/Paris:20121118T140000
CATEGORIES:83
LOCATION:Trimurti Cogolin
WEBSITE:http://www.trimurti-seminaire.com
URL:http://www.trimurti-seminaire.com
CONTACT:0677807250
ORGANIZER;CN="BERTRAND Isabelle":https://epanews.fr/profile/BERTRANDFE
 RRANDEZIsabelle
ATTACH;FMTTYPE="image/jpeg":
ATTENDEE;ROLE=REQ-PARTICIPANT;PARTSTAT=ACCEPTED;RSVP=TRUE;CN="BERTRAND
  Isabelle":https://epanews.fr/profile/BERTRANDFERRANDEZIsabelle
END:VEVENT
END:VCALENDAR
