BEGIN:VCALENDAR
PRODID:NingEventWidget-v1
VERSION:2.0
METHOD:PUBLISH
BEGIN:VTIMEZONE
TZID:Europe/Paris
X-LIC-LOCATION:Europe/Paris
BEGIN:DAYLIGHT
TZOFFSETFROM:+0100
TZOFFSETTO:+0200
TZNAME:CEST
DTSTART:19700329T020000
RRULE:FREQ=YEARLY;BYMONTH=3;BYDAY=-1SU
END:DAYLIGHT
BEGIN:STANDARD
TZOFFSETFROM:+0200
TZOFFSETTO:+0100
TZNAME:CET
DTSTART:19701025T030000
RRULE:FREQ=YEARLY;BYMONTH=10;BYDAY=-1SU
END:STANDARD
END:VTIMEZONE
BEGIN:VEVENT
UID:2485226:Event:847404
DTSTAMP:20260420T043854Z
SUMMARY:Formation personnelle en Tantra \"Glisse en conscience dans la
  vallÃ©e fluide\"
DESCRIPTION:Formation Personnelle en Tantra \"Glisse en Conscience dan
 s la VallÃ©e Fluide\" Odile Guillet & Dominique Giral sont thÃ©rapeute
 s de couples et thÃ©rapeutes psycho-corporel. En couple dans la vie, i
 ls animent toute l'annÃ©e des stages de Tantra et de massages. Ils ouv
 rent pour tous, personnes seules ou en couple, thÃ©rapeutes ou non, un
 e formation en Tantra.  Cette formation personnelle est une aventure r
 iche en couleurs, Ã©motions et sensations. Elle permet d'amener le par
 ticipant Ã  une authentique rencontre avec lui-mÃªme. Elle enseigne Ã 
  vivre en conscience le quotidien de faÃ§on fluide et Ã  expÃ©rimenter
  une sexualitÃ© sacrÃ©e... l'orgasme de la vallÃ©e.  Nous travailleron
 s les mots clÃ©s du Tantra: Conscience, Acceptation, Relaxation.  La f
 ormation apporte des rÃ©ponses dans les domaines de la spiritualitÃ©, 
 du dÃ©sir, du plaisir, de la sexualitÃ©, de l'autonomie affective, de 
 la communication corporelle et verbale, de la mÃ©ditation, de la respi
 ration, de la reconnaissance de ses limites et de la possibilitÃ© de l
 es faire Ã©voluer. Elle s'adresse Ã  toutes personnes motivÃ©es dÃ©sir
 euses d'amÃ©liorer sa condition d'humain sur terre. La formation a lie
 u prÃ¨s de MontÃ©limar (26) et dÃ©bute en octobre. Elle est rÃ©partie 
 sur 14 jours en 4 sessions jusqu'en mai 2013.\nLe groupe sera fermÃ© Ã
   partir de la seconde session.  Il n'y a aucune relation sexuelle dur
 ant le travail.\nFormation Terres Tantriques\n\nPour plus d'informatio
 n, aller sur https://epanews.fr/events/formation-en-tantra-pr-s-de-mon
 t-limar-conscience-et-fluidit
DTSTART;TZID=Europe/Paris:20121012T000000
DTEND;TZID=Europe/Paris:20121014T235900
CATEGORIES:tous
LOCATION:Grillon
WEBSITE:http://www.terrestantriques.org
URL:http://www.terrestantriques.org
CONTACT:0475537164 - 0664273147
ORGANIZER:Dominique Giral & Odile Guillet
ATTACH;FMTTYPE="image/jpeg":http://storage.ning.com/topology/rest/1.0/
 file/get/1662619121?profile=original
ATTENDEE;ROLE=REQ-PARTICIPANT;PARTSTAT=ACCEPTED;RSVP=TRUE;CN="Dominiqu
 e Giral":https://epanews.fr/profile/dominique
END:VEVENT
END:VCALENDAR
