BEGIN:VCALENDAR
PRODID:NingEventWidget-v1
VERSION:2.0
METHOD:PUBLISH
BEGIN:VTIMEZONE
TZID:Europe/Paris
X-LIC-LOCATION:Europe/Paris
BEGIN:DAYLIGHT
TZOFFSETFROM:+0100
TZOFFSETTO:+0200
TZNAME:CEST
DTSTART:19700329T020000
RRULE:FREQ=YEARLY;BYMONTH=3;BYDAY=-1SU
END:DAYLIGHT
BEGIN:STANDARD
TZOFFSETFROM:+0200
TZOFFSETTO:+0100
TZNAME:CET
DTSTART:19701025T030000
RRULE:FREQ=YEARLY;BYMONTH=10;BYDAY=-1SU
END:STANDARD
END:VTIMEZONE
BEGIN:VEVENT
UID:2485226:Event:1534155
DTSTAMP:20260423T181315Z
SUMMARY:Formation en SonothÃ©rapie
DESCRIPTION:Le son a toujours permis dâ€™Ã©veiller, dâ€™adoucir et dâ€
 ™Ã©lever lâ€™esprit. De par sa grande fluiditÃ©, il cherche Ã  sâ€™inf
 iltrer partout. Il use sur son passage les blocages et zones de tensio
 n, pour faire circuler pleinement lâ€™Ã©nergie de vie. Il a la capacit
 Ã© de relier les Ãªtres Ã  leur essence, de rÃ©veiller une sensibilitÃ
 © endormie, de mettre en relation le monde physique et celui de lâ€™es
 prit. Comment lâ€™apprÃ©hender pour en faire un instrument dâ€™ancrage
 , de purification et dâ€™harmonisation ?\nÂ \nAu cours de cette format
 ion en SonothÃ©rapie, vous explorerez lâ€™univers vibratoire des sons 
 harmoniques et apprendrez Ã  utiliser leurs propriÃ©tÃ©s guÃ©rissantes
 . Les sons seront abordÃ©s comme outils de croissance et de dÃ©veloppe
 ment intÃ©rieur pour soi et pour autrui.Â La visÃ©e gÃ©nÃ©rale de cett
 e formation est de goÃ»ter une prÃ©sence accrue Ã  soi et Ã  la vie, d
 â€™habiter pleinement son corps, dâ€™Ãªtre le tÃ©moin bienveillant de 
 ses Ã©motions et de ses pensÃ©es, de toucher Ã  des Ã©tats de conscien
 ce propices Ã  lâ€™ouverture, afin de dÃ©velopper nos sens et nos perc
 eptions.\nÂ \nÂ \n\nCette formation est ouverte Ã  tous. Elle sâ€™Ã©te
 nd sur 4 modules de 2 jours pendant lesquels nous pratiquerons le chan
 t harmonique et aborderons en dÃ©tails des instruments intuitifs. Elle
  est construite pour Ãªtre suivie intÃ©gralement, il est cependant pos
 sible de choisir sesÂ  modules Ã  la carte.\nÂ \nÂ Â Â Â  Module 1Â : 
 7/8 dÃ©cembre 2013\n\nBols tibÃ©tains et bols de cristal\nChant harmon
 ique\n\nÂ \nChaque module sâ€™articulera autour des pratiques suivante
 sÂ :\n\nÂ Â Â Â  Exercices de centrageÂ : mise en mouvement, Ã©tiremen
 ts, relaxation, mÃ©ditation, libÃ©ration du souffle, respiration yogiq
 ueâ€¦\nCes pratiques amÃ¨nent Ã  dÃ©velopper un Ã©tat intÃ©rieur propi
 ce au soin : qualitÃ© de prÃ©sence, conscience, sensibilitÃ©, Ã©coute,
  reliance et lÃ¢cher-prise.\nÂ \nÂ Â Â Â  Atelier de technique vocale 
 et de chant harmoniqueÂ : exploration vocale, chant des voyelles, acti
 vation des zones de rÃ©sonance, ressenti physique de la vibration, rec
 herche du timbreâ€¦\nÂ \nÂ Â Â Â  Cours thÃ©oriquesÂ : la loi de lâ€™o
 ctave cosmique, la frÃ©quence fondamentale, les figures acoustiques de
  Chladniâ€¦\nLes enseignements, enrichis de diffÃ©rents outils techniq
 ues, comme un logiciel de spectrogramme, permettront dâ€™acquÃ©rir des
  connaissances thÃ©oriques et de comprendre les phÃ©nomÃ¨nes vibratoir
 es des instruments harmoniques.\nÂ \nÂ Â Â Â  Ecoute active dâ€™instru
 ments riches en harmoniquesÂ : gongs, bols, guimbarde, didgeridoo, mon
 ochordâ€¦\nAu cours des dÃ©monstrations de la journÃ©e nous prendrons 
 le temps dâ€™approfondir et dâ€™expÃ©rimenter les caractÃ©ristiques de
  chaque instrument. Nous verrons comment lâ€™intention conduit le son.
  En complÃ©ment, les concerts mÃ©ditatifs donnÃ©s en soirÃ©e favoriser
 ont le ressenti de la puissance harmonisante des vibrations sonores.\n
 Â \nÂ Â Â Â  Ateliers de pratiqueÂ : techniques de jeu et pratiques de
  soin avec la voix et les instruments\nCes temps dâ€™expÃ©rimentation 
 permettront Ã  chacun de se familiariser avec les diffÃ©rents instrume
 nts et dâ€™affiner sa sensibilitÃ© auditive et kinesthÃ©sique pour app
 rendre Ã  utiliser lâ€™instrument en tant quâ€™outil de soin, pour soi
  ou pour les autres.\nÂ \nFlyer%20Formation%2B%2B4.pdf\n\nÂ \nÂ \nÂ  Â
   Â  Â  Â  Â  Â  Â  Â  Â  Â  Â  Â  Â  Â  Â  Â  Â  Â  Â  Â  Â  Â  Â  Â 
  Â  Â  Â  Â  Â  Â  Â  Â  Â  Â  Â  Â  Â  Â  Â  Â  Â  Â  Â  Â  Â \n\nPou
 r plus d'information, aller sur https://epanews.fr/events/formation-en
 -sonoth-rapie
DTSTART;TZID=Europe/Paris:20131207T100000
DTEND;TZID=Europe/Paris:20131208T170000
CATEGORIES:07
LOCATION:en ArdÃ¨che
WEBSITE:http://source07.fr/
URL:http://source07.fr/
CONTACT:04.67.50.74.26 ou 06.33.61.68.21
ORGANIZER;CN="DARBORD Catherine":https://epanews.fr/profile/DARBORDCat
 herine
ATTACH;FMTTYPE="image/jpeg":http://storage.ning.com/topology/rest/1.0/
 file/get/1662926790?profile=original
ATTENDEE;ROLE=REQ-PARTICIPANT;PARTSTAT=ACCEPTED;RSVP=TRUE;CN="DARBORD 
 Catherine":https://epanews.fr/profile/DARBORDCatherine
END:VEVENT
END:VCALENDAR
