BEGIN:VCALENDAR
PRODID:NingEventWidget-v1
VERSION:2.0
METHOD:PUBLISH
BEGIN:VTIMEZONE
TZID:Europe/Paris
X-LIC-LOCATION:Europe/Paris
BEGIN:DAYLIGHT
TZOFFSETFROM:+0100
TZOFFSETTO:+0200
TZNAME:CEST
DTSTART:19700329T020000
RRULE:FREQ=YEARLY;BYMONTH=3;BYDAY=-1SU
END:DAYLIGHT
BEGIN:STANDARD
TZOFFSETFROM:+0200
TZOFFSETTO:+0100
TZNAME:CET
DTSTART:19701025T030000
RRULE:FREQ=YEARLY;BYMONTH=10;BYDAY=-1SU
END:STANDARD
END:VTIMEZONE
BEGIN:VEVENT
UID:2485226:Event:2472417
DTSTAMP:20260420T004418Z
SUMMARY:formation en Qi nei tsang massage taoÃ¯ste du ventre
DESCRIPTION:Bonjour Ã  la communautÃ© Epanews! Je suis formatrice Ã  l
 'IMTC et je ...propose aussi des formations de qualitÃ© pour un minimu
 m de 6/8 personnes sur les diffÃ©rents thÃ¨mes et outils de la MÃ©deci
 ne Traditionnelle Chinoise. Je peux me dÃ©placer Ã  la demande. Je reÃ
 §ois Ã©galement Ã  mon cabinet: il me reste 2 places sur la session qu
 i dÃ©marre le dimanche 8 novembre! ThÃ¨me: Qi Nei Tsang : les bienfait
 s du massage du ventre pour prÃ©venir les dÃ©sordres gastro_intestinau
 x et se libÃ©rer des tensions physiques et Ã©motionnelles inutiles. At
 elier du dimanche chaque mois. Horaires: 9h00-12h00 13h30-17h30 lieu: 
 1 cours Bouquimard Ã  BÃ©darrides inscription et renseignements: 06631
 07094 PrÃ©voir un repas tirÃ© du sac. Un goÃ»ter est offert \"Ã  la rÃ
 ©crÃ©ation\" Prix de la journÃ©e: 60 euros. 1Ã¨re journÃ©e d'initiatio
 n: 50 euros objectif: apprendre un protocole de massage du ventre Ã  r
 Ã©aliser sur autrui et/ou sur soi-mÃªme afin de dÃ©nouer tensions phys
 iques et Ã©motionnelles. La pratique rÃ©guliÃ¨re permet de prÃ©venir l
 a surcharge du systÃ¨me digestif et lymphatique, l'accumulation des to
 xines et la \"surchauffe\" des organes, responsable des douleurs et de
 s pathologies futures. Au-delÃ , le QI NEI TSANG, lorsqu'il est pratiq
 uÃ© au quotidien est un vÃ©ritable outil de rÃ©gulation des Ã©motions,
  de prÃ©vention des conflits avec soi-mÃªme et finalement entre soi et
  le monde extÃ©rieur.\n\nPour plus d'information, aller sur https://ep
 anews.fr/events/formation-en-qi-nei-tsang-massage-tao-ste-du-ventre
DTSTART;TZID=Europe/Paris:20151108T000000
DTEND;TZID=Europe/Paris:20151108T235900
CATEGORIES:84
LOCATION:1 cours Bouquimard 84370 BÃ©darrides
WEBSITE:http://acupuncture-avignon.fr
URL:http://acupuncture-avignon.fr
CONTACT:0663107094
ORGANIZER;CN=Petitefleur:https://epanews.fr/profile/Petitefleur350
ATTACH;FMTTYPE="image/jpeg":
ATTENDEE;ROLE=REQ-PARTICIPANT;PARTSTAT=ACCEPTED;RSVP=TRUE;CN=Petitefle
 ur:https://epanews.fr/profile/Petitefleur350
END:VEVENT
END:VCALENDAR
