BEGIN:VCALENDAR
PRODID:NingEventWidget-v1
VERSION:2.0
METHOD:PUBLISH
BEGIN:VTIMEZONE
TZID:Europe/Paris
X-LIC-LOCATION:Europe/Paris
BEGIN:DAYLIGHT
TZOFFSETFROM:+0100
TZOFFSETTO:+0200
TZNAME:CEST
DTSTART:19700329T020000
RRULE:FREQ=YEARLY;BYMONTH=3;BYDAY=-1SU
END:DAYLIGHT
BEGIN:STANDARD
TZOFFSETFROM:+0200
TZOFFSETTO:+0100
TZNAME:CET
DTSTART:19701025T030000
RRULE:FREQ=YEARLY;BYMONTH=10;BYDAY=-1SU
END:STANDARD
END:VTIMEZONE
BEGIN:VEVENT
UID:2485226:Event:2797043
DTSTAMP:20260422T202913Z
SUMMARY:Formation en massages Californien
DESCRIPTION:Formation en massages Californien les 27/28 et 1er Mars à
  Annecy.\nCes formations se déroulent sur trois jours et sont certifi
 antes.\nplus d'infos : http://www.ashoka-zen-formation.puzl.com\nsoyez
  les bienvenus.\nMartine\n\n\n\nPour plus d'information, aller sur htt
 ps://epanews.fr/events/formation-en-massages-californien
DTSTART;TZID=Europe/Paris:20170227T000000
DTEND;TZID=Europe/Paris:20170301T235900
CATEGORIES:tous
LOCATION:ANNECY
WEBSITE:http://www.ashoka-zen-formation.puzl.com
URL:http://www.ashoka-zen-formation.puzl.com
CONTACT:
ORGANIZER;CN=VOYAGEUSE:https://epanews.fr/profile/VOYAGEUSE
ATTACH;FMTTYPE="image/jpeg":
ATTENDEE;ROLE=REQ-PARTICIPANT;PARTSTAT=ACCEPTED;RSVP=TRUE;CN=VOYAGEUSE
 :https://epanews.fr/profile/VOYAGEUSE
END:VEVENT
END:VCALENDAR
