BEGIN:VCALENDAR
PRODID:NingEventWidget-v1
VERSION:2.0
METHOD:PUBLISH
BEGIN:VTIMEZONE
TZID:Europe/Paris
X-LIC-LOCATION:Europe/Paris
BEGIN:DAYLIGHT
TZOFFSETFROM:+0100
TZOFFSETTO:+0200
TZNAME:CEST
DTSTART:19700329T020000
RRULE:FREQ=YEARLY;BYMONTH=3;BYDAY=-1SU
END:DAYLIGHT
BEGIN:STANDARD
TZOFFSETFROM:+0200
TZOFFSETTO:+0100
TZNAME:CET
DTSTART:19701025T030000
RRULE:FREQ=YEARLY;BYMONTH=10;BYDAY=-1SU
END:STANDARD
END:VTIMEZONE
BEGIN:VEVENT
UID:2485226:Event:2871410
DTSTAMP:20260422T025837Z
SUMMARY:Formation en massages Ayurvédique les 28/29/30 Septembre
DESCRIPTION:ASHOKA ZEN Ecole de massages Bien-être\nFormation en mass
 ages Ayurvédique les 28/29/30 septembre à Annecy.\nToutes mes format
 ions sont certifiantes.\nElles se déroulent sur trois jours, en group
 e de 4 maximum pour plus d'efficacité, et 2 minimum.\nLes massages Ay
 urvédiques sont de plus en plus demandés,\nProfitez en pour vous for
 mer à cette technique issue de la médecine Ayurvédique.\nPlus d'inf
 os sur mon site.\nN'hésitez pas à m'appeler pour plus de renseigneme
 nts.\nA bientôt\n\n\n\n\nPour plus d'information, aller sur https://e
 panews.fr/events/formation-en-massages-ayurv-dique-les-28-29-30-septem
 bre
DTSTART;TZID=Europe/Paris:20170928T000000
DTEND;TZID=Europe/Paris:20170930T235900
CATEGORIES:tous
LOCATION:ANNECY
WEBSITE:https://ashoka-zen-formation.puzl.com
URL:https://ashoka-zen-formation.puzl.com
CONTACT:06 23 63 43 11
ORGANIZER;CN=VOYAGEUSE:https://epanews.fr/profile/VOYAGEUSE
ATTACH;FMTTYPE="image/jpeg":
ATTENDEE;ROLE=REQ-PARTICIPANT;PARTSTAT=ACCEPTED;RSVP=TRUE;CN=VOYAGEUSE
 :https://epanews.fr/profile/VOYAGEUSE
END:VEVENT
END:VCALENDAR
