BEGIN:VCALENDAR
PRODID:NingEventWidget-v1
VERSION:2.0
METHOD:PUBLISH
BEGIN:VTIMEZONE
TZID:Europe/Paris
X-LIC-LOCATION:Europe/Paris
BEGIN:DAYLIGHT
TZOFFSETFROM:+0100
TZOFFSETTO:+0200
TZNAME:CEST
DTSTART:19700329T020000
RRULE:FREQ=YEARLY;BYMONTH=3;BYDAY=-1SU
END:DAYLIGHT
BEGIN:STANDARD
TZOFFSETFROM:+0200
TZOFFSETTO:+0100
TZNAME:CET
DTSTART:19701025T030000
RRULE:FREQ=YEARLY;BYMONTH=10;BYDAY=-1SU
END:STANDARD
END:VTIMEZONE
BEGIN:VEVENT
UID:2485226:Event:2861471
DTSTAMP:20260421T134902Z
SUMMARY:Formation en massage Californien Annecy les 8/9/10 septembre
DESCRIPTION:ASHOKA-ZEN Ecole du bien-être\nJe vous propose des format
 ions certifiantes en massages bien-être à Annecy (Haute-Savoie)\nLes
  8/9 et 10 septembre formation en massages Californien.\nCes stages se
  déroulent sur 3 jours, en petit groupe de 4 personnes maximum pour p
 lus d'efficacités.\nToutes les formations sont certifiantes pour vous
  permettre d'exercer en tant que professionnel.\nPlus d'infos sur mon 
 site :\nhttps://ashoka-zen-formation.puzl.com\nN'hésitez pas à me co
 ntacter pour des renseignements.\nA bientôt\nMartine\n\n\nPour plus d
 'information, aller sur https://epanews.fr/events/formation-en-massage
 -californien-annecy-les-8-9-10-septembre
DTSTART;TZID=Europe/Paris:20170908T000000
DTEND;TZID=Europe/Paris:20170910T235900
CATEGORIES:tous
LOCATION:Annecy
WEBSITE:https://ashoka-zen-formation.com
URL:https://ashoka-zen-formation.com
CONTACT:0623634311
ORGANIZER;CN=VOYAGEUSE:https://epanews.fr/profile/VOYAGEUSE
ATTACH;FMTTYPE="image/jpeg":
ATTENDEE;ROLE=REQ-PARTICIPANT;PARTSTAT=ACCEPTED;RSVP=TRUE;CN=VOYAGEUSE
 :https://epanews.fr/profile/VOYAGEUSE
END:VEVENT
END:VCALENDAR
