BEGIN:VCALENDAR
PRODID:NingEventWidget-v1
VERSION:2.0
METHOD:PUBLISH
BEGIN:VTIMEZONE
TZID:Europe/Paris
X-LIC-LOCATION:Europe/Paris
BEGIN:DAYLIGHT
TZOFFSETFROM:+0100
TZOFFSETTO:+0200
TZNAME:CEST
DTSTART:19700329T020000
RRULE:FREQ=YEARLY;BYMONTH=3;BYDAY=-1SU
END:DAYLIGHT
BEGIN:STANDARD
TZOFFSETFROM:+0200
TZOFFSETTO:+0100
TZNAME:CET
DTSTART:19701025T030000
RRULE:FREQ=YEARLY;BYMONTH=10;BYDAY=-1SU
END:STANDARD
END:VTIMEZONE
BEGIN:VEVENT
UID:2485226:Event:88847
DTSTAMP:20260421T100503Z
SUMMARY:formation en irirdologie module 3
DESCRIPTION:Nous voila arrivés au terme du cycle de la formation en i
 ridologie\n\nSession 3:Etudes des diathèses (psycho-physiologie) 17h\
 n\n1) Muette ou asymptomatique\n2) Allergique ou arthritique\n3) Hypos
 th‚nique infectieux\n4) Dystonique\n5) Anergique\n6) Désadaptation\
 n\nNotion de bioélectronique. Prise en charge des diathèses.\nExamen
 .\n\n\nMODALITES\n\n\n- Coût de la formation: 250€ la session, soit
  750€ la formation (3 sessions de 17h)\n\n- Horaires:\nvendredi 14h-
 18h\nsamedi 9h30-18h\ndimanche 9h30-17H.\n\nPause le midi 1H30. Certif
 ication après examen lors de la session 3.\n\n- Adresse du stage : 54
 , place de la mairie 29860 Plouvien\nSitué à 15 min de Brest, proche
  sortie voies express de Morlaix et de Quimper.\nPour Tout renseigneme
 nt et inscription me contacter. Merci.\n\n\nAdrien\n06.16.30.56.26 /me
 rand.naturopathe@free.fr\n\n\nDate des sessions précédentes\nsession
  1: 08, 09 et 10 octobre 2010\nsession 2: 05, 06 et 07 novembre 2010\n
 \n\nAnimation - Enseignement\nAdrien Mérand et Danielle Brotonne\nNat
 uropathe-iridologueAfficher davantage\n\nPour plus d'information, alle
 r sur https://epanews.fr/events/formation-en-irirdologie
DTSTART;TZID=Europe/Paris:20101210T140000
DTEND;TZID=Europe/Paris:20101212T170000
CATEGORIES:29
LOCATION:Espace ArbrEssence
WEBSITE:
URL:
CONTACT:06 16 30 56 26
ORGANIZER;CN=Adrien:https://epanews.fr/profile/Adrien
ATTACH;FMTTYPE="image/jpeg":http://storage.ning.com/topology/rest/1.0/
 file/get/1662321161?profile=original
ATTENDEE;ROLE=REQ-PARTICIPANT;PARTSTAT=ACCEPTED;RSVP=TRUE;CN=Adrien:ht
 tps://epanews.fr/profile/Adrien
END:VEVENT
END:VCALENDAR
