BEGIN:VCALENDAR
PRODID:NingEventWidget-v1
VERSION:2.0
METHOD:PUBLISH
BEGIN:VTIMEZONE
TZID:Europe/Paris
X-LIC-LOCATION:Europe/Paris
BEGIN:DAYLIGHT
TZOFFSETFROM:+0100
TZOFFSETTO:+0200
TZNAME:CEST
DTSTART:19700329T020000
RRULE:FREQ=YEARLY;BYMONTH=3;BYDAY=-1SU
END:DAYLIGHT
BEGIN:STANDARD
TZOFFSETFROM:+0200
TZOFFSETTO:+0100
TZNAME:CET
DTSTART:19701025T030000
RRULE:FREQ=YEARLY;BYMONTH=10;BYDAY=-1SU
END:STANDARD
END:VTIMEZONE
BEGIN:VEVENT
UID:2485226:Event:1317176
DTSTAMP:20260421T191045Z
SUMMARY:formation en EMC - 1ère à Lyon du 22 au 25 juin
DESCRIPTION:Déroulement du stage (niveau 1) :\nEn 4 jours, vous maî
 triserez des milliers de points répartis sur le corps, les pieds, les
  jambes, les mains, les bras, le visage, les oreilles, la clavicule, l
 es omoplates, le dos et la tête. \nVous apprendrez comment :\n\nÉqu
 ilibrer le bassin\nPratiquer les six ajustements des pieds\nAjuster le
  protocole sur les pieds, les jambes, les mains, les bras, les oreille
 s, le haut du dos, les omoplates, la clavicule et la tête\nFaire mont
 er les charges émotives emmagasinées\nFaire disparaître les douleur
 s en quelques seconde\nTravailler directement le cerveau (mental)\nVou
 s aider à retrouver un équilibre physique, mental et émotif.\n\nUne
  technique qui s’adresse à TOUS et qui ne comporte aucune contre-in
 dication.\nAprès 4 jours de formation, vous aurez des résultats spec
 taculaires sur vous et tous les personnes que vous prendrez en charge.
 \nL'accent est mis sur l’apprentissage des bons gestes permettant au
 x stagiaires d’être autonome à l’issue de la formation\nUne mét
 hode unique à découvrir\nBonne formation\n\nPour plus d'information,
  aller sur https://epanews.fr/events/formation-en-emc-1-re-lyon-du-22-
 au-25-juin
DTSTART;TZID=Europe/Paris:20130622T000000
DTEND;TZID=Europe/Paris:20130625T235900
CATEGORIES:69
LOCATION:Lyon
WEBSITE:http://france-reflexologie.fr/formation-emc-eveil-de-la-memoir
 e-corporelle
URL:http://france-reflexologie.fr/formation-emc-eveil-de-la-memoire-co
 rporelle
CONTACT:0673139990
ORGANIZER;CN="Siméon Nathalie":https://epanews.fr/profile/SimeonNatha
 lie
ATTACH;FMTTYPE="image/jpeg":http://storage.ning.com/topology/rest/1.0/
 file/get/1662819068?profile=original
ATTENDEE;ROLE=REQ-PARTICIPANT;PARTSTAT=ACCEPTED;RSVP=TRUE;CN="Siméon 
 Nathalie":https://epanews.fr/profile/SimeonNathalie
END:VEVENT
END:VCALENDAR
