BEGIN:VCALENDAR
PRODID:NingEventWidget-v1
VERSION:2.0
METHOD:PUBLISH
BEGIN:VTIMEZONE
TZID:Europe/Paris
X-LIC-LOCATION:Europe/Paris
BEGIN:DAYLIGHT
TZOFFSETFROM:+0100
TZOFFSETTO:+0200
TZNAME:CEST
DTSTART:19700329T020000
RRULE:FREQ=YEARLY;BYMONTH=3;BYDAY=-1SU
END:DAYLIGHT
BEGIN:STANDARD
TZOFFSETFROM:+0200
TZOFFSETTO:+0100
TZNAME:CET
DTSTART:19701025T030000
RRULE:FREQ=YEARLY;BYMONTH=10;BYDAY=-1SU
END:STANDARD
END:VTIMEZONE
BEGIN:VEVENT
UID:2485226:Event:2136587
DTSTAMP:20260421T192044Z
SUMMARY:Modification demandée
DESCRIPTION:Mon engouement pour les mandalas date de ma rencontre avec
  Marie Pré, initiatrice en France du mandala en tant qu’outil péda
 gogique. (www.mariepre.net)\nLe mandala, ou « dessin centré », est 
 un formidable outil permettant :  ->de découvrir ou stimuler sa créa
 tivité \n->de rééquilibrer les hémisphères cérébraux \n->d’at
 teindre un état proche de la méditation \n-> se détendre, se recent
 rer, s’intérioriser \n->de rassembler ses forces de vie \n->d’aid
 er à passer un cap difficile dans une période de doute ou de questio
 nnement (intéressant dans les états dépressifs)\nLa formation que j
 e propose comporte 4 modules de base (F1,F2, F3, Axe de Vie), ainsi qu
 e des modules d'approfondissement : dessin centré et personnes âgée
 s , troubles de l'apprentissage et troubles relationnels chez l'enfant
 , dessin centré et créativité, pédagogie d'animation d'un atelier 
 ...\nDATES DES PROCHAINS MODULES :  -> F1 : du 10 au 12 Avril 2015\n->
  F2 : du 15 au 17 Mai 2015\n-> F3 : du 04 au 07 Juin 2015\n-> Axe de V
 ie : du 12 au 14 Juin 2015\nAPPROFONDISSEMENT\n-> module \"Dessin Cent
 ré et personnes âgées\" : du 22 au 24 Mai 2015\n-> module \"pédago
 gie de l'animation d'un atelier\" : du 10 au 13 Septembre 2015\nTARIFS
  : Entre 270 et 480€ par module (information disponible sur mon site
  internet).\nPossibilité de prise en charge OPCA ou dans le cadre d'u
 n DPC .\n\nPour plus d'information, aller sur https://epanews.fr/event
 s/formation-en-dessin-centr
DTSTART;TZID=Europe/Paris:20150410T090000
DTEND;TZID=Europe/Paris:20150412T190000
CATEGORIES:82
LOCATION:Moissac
WEBSITE:http://www.mandala-stage.com/les-formations/
URL:http://www.mandala-stage.com/les-formations/
CONTACT:06 85 03 57 92
ORGANIZER;CN="Suire claire":https://epanews.fr/profile/Suireclaire
ATTACH;FMTTYPE="image/jpeg":http://storage.ning.com/topology/rest/1.0/
 file/get/1663265556?profile=original
ATTENDEE;ROLE=REQ-PARTICIPANT;PARTSTAT=ACCEPTED;RSVP=TRUE;CN="Suire cl
 aire":https://epanews.fr/profile/Suireclaire
END:VEVENT
END:VCALENDAR
