BEGIN:VCALENDAR
PRODID:NingEventWidget-v1
VERSION:2.0
METHOD:PUBLISH
BEGIN:VTIMEZONE
TZID:Europe/Paris
X-LIC-LOCATION:Europe/Paris
BEGIN:DAYLIGHT
TZOFFSETFROM:+0100
TZOFFSETTO:+0200
TZNAME:CEST
DTSTART:19700329T020000
RRULE:FREQ=YEARLY;BYMONTH=3;BYDAY=-1SU
END:DAYLIGHT
BEGIN:STANDARD
TZOFFSETFROM:+0200
TZOFFSETTO:+0100
TZNAME:CET
DTSTART:19701025T030000
RRULE:FREQ=YEARLY;BYMONTH=10;BYDAY=-1SU
END:STANDARD
END:VTIMEZONE
BEGIN:VEVENT
UID:2485226:Event:844644
DTSTAMP:20260421T100810Z
SUMMARY:Formation en Approche Chamanique de la Thérapie
DESCRIPTION:Formation en Approche Chamanique de la Thérapie –ACT ©
 Selon la méthode NCC de Liliane van der VeldeVous êtes un thérapeut
 e engagé, aux exigences d’évolution et de cohérence personnelle e
 t professionnelle, recherchant l’épanouissement et la profondeur de
  l’être, pour vous même et pour vos clients.Vous êtes ouvert aux 
 approches innovantes intégrant des principes ancestraux ?Vous voulez 
 utiliser TOUS vos outils et savoirs de manière plus efficace. Il vou
 s manque peut être la vision holistique chamanique :-    Pour trou
 ver directement le niveau source d’une problématique-    Pour po
 uvoir vous appuyer sur des principes et champs d’information de la n
 ature et l’univers-    Pour travailler en accord et avec le souti
 en de la nature profonde de vos clients et la vôtre-    Pour trava
 iller d’une manière holistique L’approche Chamanique de la Théra
 pie utilise des techniques permettant de sonder les différentes strat
 es et systèmes de la personne, de trouver les nœuds, leur origine et
  d’apporter des solutions appropriées.Le cursus ACT d’un an donne
  des bases suffisamment complètes aux thérapeutes professionnels pou
 r explorer et exploiter cette méthode d'accompagnement.Grâce aux out
 ils pédagogiques utilisés, il est relativement facile d’intégrer 
 les données principales nécessaires pour travailler avec cette méth
 ode rapidement.Plus d’infos : iciDescriptif formation: ici\nNouvelle
  session 2012-2013: Module 1 le 16-19 octFormation en 5 modules de 3,5
  joursTarif 3000€ \n\nPour plus d'information, aller sur https://epa
 news.fr/events/formation-en-approche-chamanique-de-la-th-rapie
DTSTART;TZID=Europe/Paris:20121016T090000
DTEND;TZID=Europe/Paris:20121019T180000
CATEGORIES:84
LOCATION:Avignon
WEBSITE:
URL:
CONTACT:06 01 04 61 72 ou 04 90 90 39 30
ORGANIZER;CN="Nature Conscience Chamanisme":https://epanews.fr/profile
 /NatureConscienceChamanisme
ATTACH;FMTTYPE="image/jpeg":http://storage.ning.com/topology/rest/1.0/
 file/get/1662618822?profile=original
ATTENDEE;ROLE=REQ-PARTICIPANT;PARTSTAT=ACCEPTED;RSVP=TRUE;CN="Nature C
 onscience Chamanisme":https://epanews.fr/profile/NatureConscienceChama
 nisme
END:VEVENT
END:VCALENDAR
