BEGIN:VCALENDAR
PRODID:NingEventWidget-v1
VERSION:2.0
METHOD:PUBLISH
BEGIN:VTIMEZONE
TZID:Europe/Paris
X-LIC-LOCATION:Europe/Paris
BEGIN:DAYLIGHT
TZOFFSETFROM:+0100
TZOFFSETTO:+0200
TZNAME:CEST
DTSTART:19700329T020000
RRULE:FREQ=YEARLY;BYMONTH=3;BYDAY=-1SU
END:DAYLIGHT
BEGIN:STANDARD
TZOFFSETFROM:+0200
TZOFFSETTO:+0100
TZNAME:CET
DTSTART:19701025T030000
RRULE:FREQ=YEARLY;BYMONTH=10;BYDAY=-1SU
END:STANDARD
END:VTIMEZONE
BEGIN:VEVENT
UID:2485226:Event:1769712
DTSTAMP:20260422T012114Z
SUMMARY:Formation EFT et autres techniques quantiques
DESCRIPTION:Bonjour les amis, Je viens vous faire part des nouvelles 
 formations que je démarre,EFT et autres thérapies quantiquesTOULOUSE
 2 fois 3 jours exceptionnellement !niveau 1/2 : du 18 au 20 avrilnivea
 u 2/3 : du 04 au 6 juilletLIENS POUR INSCRIPTIONS : niv 1/2 Toulouse/
 avril :https://docs.google.com/forms/d/1blR09D_weA7QcaXnp1q6kPSDSi3a7T
 U6IEbHdIDeoqc/viewformProgramme : CURSUS DE FORMATION aux outils de la
  ‘THERAPIE QUANTIQUE’Approches psycho-énergétiquesIl arrive un m
 oment, où nous devons nous prendre en main et devenir acteur conscien
 t de notre vie. Prendre soin de notre corps, de notre esprit et de not
 re âme devient alors une nécessité pour une vie plus harmonieuse.De
  nouvelles approches ont vu le jour, les neurosciences associées aux 
 sciences quantiques nous permettent d’appréhender la santé, l’é
 quilibre et le bien être personnel d’une manière holistique en int
 ervenant directement au niveau de l’information énergie.Chacun selo
 n sa sensibilité et ses objectifs, s’appropriera tout ou partie des
  différentes techniques proposées.Formatrice et psycho-énergéticie
 nne depuis une quinzaine d’années, je transmets les méthodes et ou
 tils validés lors d’un cursus de 3 x 2 jours, 2 x 3 jours ou 6 jour
 s (en résidentiel) pendant la période estivale.NIVEAU 1 :Formation e
 t pratique psycho-énergétique :EFT (Emotional Freedom Techniques) : 
 permet de lâcher dans l’instant toutes les tensions et émotions...
  en associant la pensée aux ressentis du corps. TAT (Tapas Acupressu
 re Technique) : nous réconcilier avec les parts de nous-­‐même fi
 gées dans le temps en libérant l’énergie des refoulements. MIR :
  méthode d’équilibrage du métabolisme. ARI : méthode de soin à
  distance. NIVEAU 2 : Techniques approfondies avec l’EFT et le TAT
 , HO’OPONOPONO et son association aux autres techniques. GUERISON 
 QUANTIQUE : technique de guérison vibratoire. RECADRAGE MINUTE : mob
 ilisation de notre dimension supérieure. Autres pratiques pour réé
 quilibrer le corps physique et apaiser l’esprit. NIVEAU 3 : FASTER
  EFT : variante de l’EFT. MATRIX REIMPRINTING : réintégrer et tra
 nsmuter l’énergie refoulée de notre passé. EMOTRANCE : dissoudre
  les blocages dans le corps énergétique. ZENSIGHT : transformation 
 des émotions négatives par subtitutions. BSFF : programmer notre su
 bconscient. Z-POINT : pacifier nos problématiques relationnelles. C
 oût 2 jours : 3 jours 375€ \n\nPour plus d'information, aller sur 
 https://epanews.fr/events/formation-eft-et-autres-techniques-quantique
 s-1
DTSTART;TZID=Europe/Paris:20140418T090000
DTEND;TZID=Europe/Paris:20140420T170000
CATEGORIES:31
LOCATION:TOULOUSE
WEBSITE:
URL:
CONTACT:0626828208
ORGANIZER;CN="Sylvie ALVES":https://epanews.fr/profile/SylvieALVES
ATTACH;FMTTYPE="image/jpeg":
ATTENDEE;ROLE=REQ-PARTICIPANT;PARTSTAT=ACCEPTED;RSVP=TRUE;CN="Sylvie A
 LVES":https://epanews.fr/profile/SylvieALVES
END:VEVENT
END:VCALENDAR
