BEGIN:VCALENDAR
PRODID:NingEventWidget-v1
VERSION:2.0
METHOD:PUBLISH
BEGIN:VTIMEZONE
TZID:Europe/Paris
X-LIC-LOCATION:Europe/Paris
BEGIN:DAYLIGHT
TZOFFSETFROM:+0100
TZOFFSETTO:+0200
TZNAME:CEST
DTSTART:19700329T020000
RRULE:FREQ=YEARLY;BYMONTH=3;BYDAY=-1SU
END:DAYLIGHT
BEGIN:STANDARD
TZOFFSETFROM:+0200
TZOFFSETTO:+0100
TZNAME:CET
DTSTART:19701025T030000
RRULE:FREQ=YEARLY;BYMONTH=10;BYDAY=-1SU
END:STANDARD
END:VTIMEZONE
BEGIN:VEVENT
UID:2485226:Event:2954510
DTSTAMP:20260419T232015Z
SUMMARY:formation : devenez praticien lifting énergétique
DESCRIPTION:Bien au delà d'un aspect esthétique !Cette méthode douc
 e, naturelle, puissante et non invasive crée une immense détente dan
 s tout le corps .Son action régénérante, revitalisante se reflèten
 t à l'intérieur et à l’extérieur sur le visage, le corps et l'es
 prit.\nLe Lifting d'Access agit au niveau cellulaire, permettant au co
 rps de retrouver toutes ses capacités de génération et ainsi permet
 tre au visage et au corps d'aparaître plus jeune, au système immunit
 aire de fonctionner de manière optimale, de retrouver le sommeil. Les
  points de vue et les jugements figent votre visage et votre corps, ce
  processus énergétique déverrouille les points de vue que vous avez
 , élimine les effets du stress, permet de retrouver un confort avec v
 otre visage et de l’aisance avec votre corps. Lorsque vous commencez
  à pratiquer ce processus vos points de vue et jugements que vous ave
 z sur le vieillissement, le corps, la forme qu 'il devrait avoir, etc.
 .. commencent à se modifier progressivement.\nVenez découvrir ce que
  ce processus corporel fera pour vous, votre entourage, et vos clients
 !\nEt si vieillir n’était plus une fatalité ?Et si vous lâchiez v
 otre mental, vos croyances, vos ainsi permettre au visage et au corps 
 d'aparaître plus jeune, au système immunitaire de fonctionner de man
 ière optimale, de retrouver le sommeil.\nPour qui ?\nProfessionnelle 
 de la beauté, Praticienne Bien-être, Praticien Spa, therapeutesToute
  personne désireuse d’apprendre la technique pour donner et recevoi
 r ce soin régulièrement.il est intéressant de venir à deux pour re
 cevoir et partager le soin de façon hebdomadaire et engager plus de p
 ossibilités pour votre corps.\nAu programme :\nExercices sur la consc
 ience du corpsVisionnage de la video du fondateur de la méthodeVous r
 ecevrez 2 séances complètes et donnerez deux séances Un livret comp
 let+ une planche récapitulative du lifting vous serons remis\nCette f
 ormation est certifiante et vous donne accès à un groupe d'échanges
  régulier.Vous êtes en mesure de proposer des séances dès le lende
 main.\nTarif :La participation pour cette formation certifiante\nCoût
  fixé par Access Consciousness est de 260 EUROS\n- 130 à partir de l
 a 2ème journée de révision- 130 pour les 16 et 17 ans- gratuit pour
  les moins de 15 ans accompagnés\nInformations et inscriptions En fra
 nceVirginie LUBIN, coach,Facilitatrice Access BarsetLifting énergéti
 que+33641753665\n\nPour plus d'information, aller sur https://epanews.
 fr/events/formation-devenez-praticien-lifting-nerg-tique
DTSTART;TZID=Europe/Paris:20180527T000000
DTEND;TZID=Europe/Paris:20180527T235900
CATEGORIES:marseille
LOCATION:Marseille
WEBSITE:
URL:
CONTACT:0641753665
ORGANIZER:Virginie LUBIN
ATTACH;FMTTYPE="image/jpeg":http://storage.ning.com/topology/rest/1.0/
 file/get/1663741704?profile=original
ATTENDEE;ROLE=REQ-PARTICIPANT;PARTSTAT=ACCEPTED;RSVP=TRUE;CN="BULLE DE
  CONSCIENCE":https://epanews.fr/profile/doucexigence
END:VEVENT
END:VCALENDAR
