BEGIN:VCALENDAR
PRODID:NingEventWidget-v1
VERSION:2.0
METHOD:PUBLISH
BEGIN:VTIMEZONE
TZID:Europe/Paris
X-LIC-LOCATION:Europe/Paris
BEGIN:DAYLIGHT
TZOFFSETFROM:+0100
TZOFFSETTO:+0200
TZNAME:CEST
DTSTART:19700329T020000
RRULE:FREQ=YEARLY;BYMONTH=3;BYDAY=-1SU
END:DAYLIGHT
BEGIN:STANDARD
TZOFFSETFROM:+0200
TZOFFSETTO:+0100
TZNAME:CET
DTSTART:19701025T030000
RRULE:FREQ=YEARLY;BYMONTH=10;BYDAY=-1SU
END:STANDARD
END:VTIMEZONE
BEGIN:VEVENT
UID:2485226:Event:1960882
DTSTAMP:20260423T142249Z
SUMMARY:formation de  magnÃ©tisme
DESCRIPTION:j'organise pendant le mois d'aout des formations de magnÃ©
 tisme sur aubagne (13)Â \nCes formations ont pour but de vous faire dÃ
 ©couvrir la pratique du magnÃ©tisme, comme comment se protÃ©ger, des p
 rotocoles d'imposition de main, comment capter l'Ã©nergie et la diffus
 er, et aussi le maniement du pendule et bien d'autres techniques pour 
 monter ses vibrations vers des Ã©nergies plus subtiles.\nUn stage de 3
  jours aura lieu les 4/7/8 aout 2014\net un autre stage de 5 jours aur
 a lieu les 18/19/20/21/22 aout 2014\npour plus de renseignements et in
 scriptions, merci de me contacter.\n\nPour plus d'information, aller s
 ur https://epanews.fr/events/formation-de-amagn-tisme
DTSTART;TZID=Europe/Paris:20140804T210000
DTEND;TZID=Europe/Paris:20140808T060000
CATEGORIES:13
LOCATION:13400 AUBAGNE
WEBSITE:http://www.magnetiseur-aubagne.com/article-stages-de-magnetism
 e-97717985.html
URL:http://www.magnetiseur-aubagne.com/article-stages-de-magnetisme-97
 717985.html
CONTACT:0622163269
ORGANIZER;CN="sebastien magnetiseur":https://epanews.fr/profile/sebast
 ienmagnetiseur
ATTACH;FMTTYPE="image/jpeg":http://storage.ning.com/topology/rest/1.0/
 file/get/1663168507?profile=original
ATTENDEE;ROLE=REQ-PARTICIPANT;PARTSTAT=ACCEPTED;RSVP=TRUE;CN="sebastie
 n magnetiseur":https://epanews.fr/profile/sebastienmagnetiseur
END:VEVENT
END:VCALENDAR
