BEGIN:VCALENDAR
PRODID:NingEventWidget-v1
VERSION:2.0
METHOD:PUBLISH
BEGIN:VTIMEZONE
TZID:Europe/Paris
X-LIC-LOCATION:Europe/Paris
BEGIN:DAYLIGHT
TZOFFSETFROM:+0100
TZOFFSETTO:+0200
TZNAME:CEST
DTSTART:19700329T020000
RRULE:FREQ=YEARLY;BYMONTH=3;BYDAY=-1SU
END:DAYLIGHT
BEGIN:STANDARD
TZOFFSETFROM:+0200
TZOFFSETTO:+0100
TZNAME:CET
DTSTART:19701025T030000
RRULE:FREQ=YEARLY;BYMONTH=10;BYDAY=-1SU
END:STANDARD
END:VTIMEZONE
BEGIN:VEVENT
UID:2485226:Event:2062492
DTSTAMP:20260422T035416Z
SUMMARY:Formation Découvrir le rire sans raison et utiliser en illimi
 té et gratuitement le club de rire en ligne.
DESCRIPTION:Formation RIRE - Crefad Loire\n\nFORMATION INTER ENTREPRIS
 E Vendredi 23 Janvier 2015 à St-Etienne - France\nDécouvrir le rire 
 sans raison et utiliser en illimité et gratuitement le club de rire e
 n ligne.\nObjectifs Initiation à la technique du Rire sans raison Dé
 couverte du Skype Laughter Club Utilisation du Club de rire en ligne\n
 Public : toute personne souhaitant profiter librement du rire sans rai
 son par le club de rire en ligne\nFormateur : Pierre Fayet  Plus d'inf
 o : www.riresansraison.fr\n\n\nPour plus d'information, aller sur http
 s://epanews.fr/events/formation-d-couvrir-le-rire-sans-raison-et-utili
 ser-en-illimit-et
DTSTART;TZID=Europe/Paris:20150123T000000
DTEND;TZID=Europe/Paris:20150123T235900
CATEGORIES:42
LOCATION:Saint-Etienne
WEBSITE:http://www.riresansraison.fr
URL:http://www.riresansraison.fr
CONTACT:06 61 65 04 02
ORGANIZER;CN="Pierre Fayet":https://epanews.fr/profile/PierreFayet
ATTACH;FMTTYPE="image/jpeg":http://storage.ning.com/topology/rest/1.0/
 file/get/1663221717?profile=original
ATTENDEE;ROLE=REQ-PARTICIPANT;PARTSTAT=ACCEPTED;RSVP=TRUE;CN="Pierre F
 ayet":https://epanews.fr/profile/PierreFayet
END:VEVENT
END:VCALENDAR
