BEGIN:VCALENDAR
PRODID:NingEventWidget-v1
VERSION:2.0
METHOD:PUBLISH
BEGIN:VTIMEZONE
TZID:Europe/Paris
X-LIC-LOCATION:Europe/Paris
BEGIN:DAYLIGHT
TZOFFSETFROM:+0100
TZOFFSETTO:+0200
TZNAME:CEST
DTSTART:19700329T020000
RRULE:FREQ=YEARLY;BYMONTH=3;BYDAY=-1SU
END:DAYLIGHT
BEGIN:STANDARD
TZOFFSETFROM:+0200
TZOFFSETTO:+0100
TZNAME:CET
DTSTART:19701025T030000
RRULE:FREQ=YEARLY;BYMONTH=10;BYDAY=-1SU
END:STANDARD
END:VTIMEZONE
BEGIN:VEVENT
UID:2485226:Event:681670
DTSTAMP:20260420T171727Z
SUMMARY:Formation d'Accompagnateurs par le Reve Eveille
DESCRIPTION:\"FORMATION d'ACCOMPAGNATEURS par le REVE EVEILLE\".\nCurs
 us de formation en 4 modules de 3 jours. 1ère session du 23 au 25 nov
 embre 2012. Le rêve éveillé, une pratique psychocorporelle libérat
 rice et naturelle. Dans cette formation, nous explorerons les états m
 odifiées de la conscience pour découvrir par la pratique et la théo
 rie de l'art de rêver, les règles d'un accompagnement juste centré 
 sur la personne.\nAucun prérequis, formation ouverte aux débutants c
 omme aux thérapeutes professionnels.\nPlaquette de présentation.\nBu
 lletin d'inscription.\n\nPour plus d'information, aller sur https://ep
 anews.fr/events/formation-d-accompagnateurs-par-le-r-ve-eveill
DTSTART;TZID=Europe/Paris:20121123T000000
DTEND;TZID=Europe/Paris:20121125T235900
CATEGORIES:35
LOCATION:Rennes
WEBSITE:http://www.elphika.com
URL:http://www.elphika.com
CONTACT:06 17 10 02 30
ORGANIZER:Association Graine de Vie
ATTACH;FMTTYPE="image/jpeg":http://storage.ning.com/topology/rest/1.0/
 file/get/1662553581?profile=original
ATTENDEE;ROLE=REQ-PARTICIPANT;PARTSTAT=ACCEPTED;RSVP=TRUE;CN=Elphika:h
 ttps://epanews.fr/profile/Elphika
END:VEVENT
END:VCALENDAR
