BEGIN:VCALENDAR
PRODID:NingEventWidget-v1
VERSION:2.0
METHOD:PUBLISH
BEGIN:VTIMEZONE
TZID:Europe/Paris
X-LIC-LOCATION:Europe/Paris
BEGIN:DAYLIGHT
TZOFFSETFROM:+0100
TZOFFSETTO:+0200
TZNAME:CEST
DTSTART:19700329T020000
RRULE:FREQ=YEARLY;BYMONTH=3;BYDAY=-1SU
END:DAYLIGHT
BEGIN:STANDARD
TZOFFSETFROM:+0200
TZOFFSETTO:+0100
TZNAME:CET
DTSTART:19701025T030000
RRULE:FREQ=YEARLY;BYMONTH=10;BYDAY=-1SU
END:STANDARD
END:VTIMEZONE
BEGIN:VEVENT
UID:2485226:Event:504316
DTSTAMP:20260423T103739Z
SUMMARY:Formation Connexion Divine
DESCRIPTION:Formation à la CD (Connexion Divine) , restructuration du
  corps énergétique , se guérir soit même, élever sa vibration\na
 vec Monique Lapointe\nLieu: ESPACE LANCELOT\n29 ,rue des trois bornes-
 75011 Paris\nTarif : 350 euros\n\nPour plus d'information, aller sur h
 ttps://epanews.fr/events/formation-connexion-divine
DTSTART;TZID=Europe/Paris:20111001T084500
DTEND;TZID=Europe/Paris:20111002T170000
CATEGORIES:75
LOCATION:Paris
WEBSITE:http://www.moniquelapointe.com
URL:http://www.moniquelapointe.com
CONTACT:+14504463069
ORGANIZER:Monique LAPOINTE
ATTACH;FMTTYPE="image/jpeg":
ATTENDEE;ROLE=REQ-PARTICIPANT;PARTSTAT=ACCEPTED;RSVP=TRUE;CN=Nanou2012
 :https://epanews.fr/profile/Nanou2012
END:VEVENT
END:VCALENDAR
