BEGIN:VCALENDAR
PRODID:NingEventWidget-v1
VERSION:2.0
METHOD:PUBLISH
BEGIN:VTIMEZONE
TZID:Europe/Paris
X-LIC-LOCATION:Europe/Paris
BEGIN:DAYLIGHT
TZOFFSETFROM:+0100
TZOFFSETTO:+0200
TZNAME:CEST
DTSTART:19700329T020000
RRULE:FREQ=YEARLY;BYMONTH=3;BYDAY=-1SU
END:DAYLIGHT
BEGIN:STANDARD
TZOFFSETFROM:+0200
TZOFFSETTO:+0100
TZNAME:CET
DTSTART:19701025T030000
RRULE:FREQ=YEARLY;BYMONTH=10;BYDAY=-1SU
END:STANDARD
END:VTIMEZONE
BEGIN:VEVENT
UID:2485226:Event:30258
DTSTAMP:20260420T131103Z
SUMMARY:Formation Communication Consciente Non Violente
DESCRIPTION:Un week end d'initiation à la communication consciente et
  non violente suivant le processus élaboré par Marshall Rosenberg.(L
 es mots sont des fenêtres).\nDans un groupe de 10 personnes , par des
  temps de théorie, d'expérimentations et d 'exercices pour commencer
  à comprendre nos mécanismes émotionnels.\nA lire \" Cessez d'être
  gentil (ou méchant , indifférent, ...) soyez vrai.de Thomas d'Ansem
 bourg.\nLe samedi 20 et Dimanche 21 février à Montpellier.\nRenseign
 ement et inscription par mail : redouanesaloul@gmail.com.\n\nPour plus
  d'information, aller sur https://epanews.fr/events/formation-communic
 ation
DTSTART;TZID=Europe/Paris:20100220T093000
DTEND;TZID=Europe/Paris:20100221T180000
CATEGORIES:34, 30, 11, 12
LOCATION:Montpellier
WEBSITE:
URL:
CONTACT:0609846679
ORGANIZER;CN="Rédouane SALOUL":https://epanews.fr/profile/RedouaneSAL
 OUL
ATTACH;FMTTYPE="image/jpeg":http://storage.ning.com/topology/rest/1.0/
 file/get/1662289612?profile=original
ATTENDEE;ROLE=REQ-PARTICIPANT;PARTSTAT=ACCEPTED;RSVP=TRUE;CN="Rédouan
 e SALOUL":https://epanews.fr/profile/RedouaneSALOUL
END:VEVENT
END:VCALENDAR
