BEGIN:VCALENDAR
PRODID:NingEventWidget-v1
VERSION:2.0
METHOD:PUBLISH
BEGIN:VTIMEZONE
TZID:Europe/Paris
X-LIC-LOCATION:Europe/Paris
BEGIN:DAYLIGHT
TZOFFSETFROM:+0100
TZOFFSETTO:+0200
TZNAME:CEST
DTSTART:19700329T020000
RRULE:FREQ=YEARLY;BYMONTH=3;BYDAY=-1SU
END:DAYLIGHT
BEGIN:STANDARD
TZOFFSETFROM:+0200
TZOFFSETTO:+0100
TZNAME:CET
DTSTART:19701025T030000
RRULE:FREQ=YEARLY;BYMONTH=10;BYDAY=-1SU
END:STANDARD
END:VTIMEZONE
BEGIN:VEVENT
UID:2485226:Event:489300
DTSTAMP:20260422T221101Z
SUMMARY:Formation  Coaching Fondamental
DESCRIPTION: \nFormation Coaching Fondamental\n \nFormation qui vous
  donne accès aux outils de coaching pour l'accompagnement de la perso
 nne.\n \nElle intègre en même temps les notions du lâcher prise, l
 'effet miroir, la loi d'attraction et la non dualité.\n \nLe coachin
 g fondamental se veut être un enseignement qui propose une transforma
 tion avec les notions de la nouvelle conscience.\n \nElle est constit
 uée de sept week-end durant lesquels s'alterneront théorie et pratiq
 ues pour vous permettre de devenir autonome.\nVoir plus de détail sur
  le site.\nLe tarif de chaque we est de 200 euros.\n \n\nPour plus d'
 information, aller sur https://epanews.fr/events/formation-coaching-fo
 ndamental
DTSTART;TZID=Europe/Paris:20111015T093000
DTEND;TZID=Europe/Paris:20111016T173000
CATEGORIES:30, 34, 84, 13, 83, 69
LOCATION:Nîmes
WEBSITE:http://www.coaching-fondamental.com
URL:http://www.coaching-fondamental.com
CONTACT:06 11 01 05 34
ORGANIZER:Géraldine Bergon
ATTACH;FMTTYPE="image/jpeg":http://storage.ning.com/topology/rest/1.0/
 file/get/1662453861?profile=original
ATTENDEE;ROLE=REQ-PARTICIPANT;PARTSTAT=ACCEPTED;RSVP=TRUE;CN=Géraldin
 e:https://epanews.fr/profile/Geraldine
END:VEVENT
END:VCALENDAR
