BEGIN:VCALENDAR
PRODID:NingEventWidget-v1
VERSION:2.0
METHOD:PUBLISH
BEGIN:VTIMEZONE
TZID:Europe/Paris
X-LIC-LOCATION:Europe/Paris
BEGIN:DAYLIGHT
TZOFFSETFROM:+0100
TZOFFSETTO:+0200
TZNAME:CEST
DTSTART:19700329T020000
RRULE:FREQ=YEARLY;BYMONTH=3;BYDAY=-1SU
END:DAYLIGHT
BEGIN:STANDARD
TZOFFSETFROM:+0200
TZOFFSETTO:+0100
TZNAME:CET
DTSTART:19701025T030000
RRULE:FREQ=YEARLY;BYMONTH=10;BYDAY=-1SU
END:STANDARD
END:VTIMEZONE
BEGIN:VEVENT
UID:2485226:Event:2576358
DTSTAMP:20260422T051731Z
SUMMARY:formation certifiante pour 1er niveau de reiki
DESCRIPTION:Formation certifiante de 1er niveau de reiki.Cette formati
 on se dÃ©roule sur 2 jours le 13 et le 20 fÃ©vrierLe tarif est de 190â
 ‚¬, facilitÃ© de paiement possiblePendant cette formation vous apprend
 rez l'histoire du reiki, ses premiers maitres, l'ouverture du canal ai
 nsi que l'auto traitement.Vous serez aussi dans la capacitÃ© de faire 
 des soins rapides et directs et nous travaillerons sur les charkas et 
 comment les rÃ©Ã©quilibrer.Les principes reiki et comment les travaill
 er seront aussi au progamme ainsi que les protections.Cette formation 
 vous intÃ©resse merci de vous inscrire en nous faisant parvenir un chÃ
 ¨que d'arrhes de 50â‚¬ Ã  l'ordre d'Opaline 11b lot les grameniÃ¨res 1
 3910 MaillanePour tout renseignementÂ www.opaline-reiki.comÂ rubrique 
 contact\n\nPour plus d'information, aller sur https://epanews.fr/event
 s/formation-certifiante-pour-1er-niveau-de-reiki-1
DTSTART;TZID=Europe/Paris:20160213T000000
DTEND;TZID=Europe/Paris:20160213T235900
CATEGORIES:13
LOCATION:Maillane
WEBSITE:https://www.google.fr/maps/place/Rue+des+Chardons,+13910+Maill
 ane/@43.8322517,4.7827593,17z/data=!3m1!4b1!4m2!3m1!1s0x12b5e63c83809c
 8b:0x6caca3c31f726bcb?hl=fr
URL:https://www.google.fr/maps/place/Rue+des+Chardons,+13910+Maillane/
 @43.8322517,4.7827593,17z/data=!3m1!4b1!4m2!3m1!1s0x12b5e63c83809c8b:0
 x6caca3c31f726bcb?hl=fr
CONTACT:0627355690
ORGANIZER;CN=Nathalie:https://epanews.fr/profile/Nathalie397
ATTACH;FMTTYPE="image/jpeg":http://storage.ning.com/topology/rest/1.0/
 file/get/1663524388?profile=original
ATTENDEE;ROLE=REQ-PARTICIPANT;PARTSTAT=ACCEPTED;RSVP=TRUE;CN=Nathalie:
 https://epanews.fr/profile/Nathalie397
END:VEVENT
END:VCALENDAR
