BEGIN:VCALENDAR
PRODID:NingEventWidget-v1
VERSION:2.0
METHOD:PUBLISH
BEGIN:VTIMEZONE
TZID:Europe/Paris
X-LIC-LOCATION:Europe/Paris
BEGIN:DAYLIGHT
TZOFFSETFROM:+0100
TZOFFSETTO:+0200
TZNAME:CEST
DTSTART:19700329T020000
RRULE:FREQ=YEARLY;BYMONTH=3;BYDAY=-1SU
END:DAYLIGHT
BEGIN:STANDARD
TZOFFSETFROM:+0200
TZOFFSETTO:+0100
TZNAME:CET
DTSTART:19701025T030000
RRULE:FREQ=YEARLY;BYMONTH=10;BYDAY=-1SU
END:STANDARD
END:VTIMEZONE
BEGIN:VEVENT
UID:2485226:Event:995331
DTSTAMP:20260423T213042Z
SUMMARY:Formation certifiante en thÃ©rapie manuelle Ã©nergÃ©tique TMEÂ
 ®
DESCRIPTION:Formation thÃ©orique et pratique en thÃ©rapie manuelle Ã©n
 ergÃ©tiqueÂ  TMEÂ®, mÃ©thode complÃ¨te d'Ã©quilibrage Ã©nergÃ©tique al
 liant quatre techniques spÃ©cifiques : digitopuncture, magnÃ©tisme et 
 2 techniques d'Ã©quilibrage Ã©nergÃ©tique en kinÃ©siologie appliquÃ©e 
 Touch for Health.\nPublics concernÃ©s : Ã‰nergÃ©ticiens, praticiens de
  Reiki, praticiens de la relation d'aide et du bien-Ãªtre, professionn
 els de santÃ©, paramÃ©dicaux, magnÃ©tiseurs,...\nClÃ´ture des inscript
 ions : 31 octobre 2012\nPlaces limitÃ©es Ã  8 participants\nProgramme 
 dÃ©taillÃ©, tarif et modalitÃ©s d'inscription sur\nhttp://www.alef-the
 rapies.com\n\nPour plus d'information, aller sur https://epanews.fr/ev
 ents/formation-certifiante-en-th-rapie-manuelle-nerg-tique-tme-1
DTSTART;TZID=Europe/Paris:20121130T090000
DTEND;TZID=Europe/Paris:20121202T173000
CATEGORIES:974
LOCATION:l'Energie CrÃ©atrice Saint-Paul, Ile de La RÃ©union
WEBSITE:http://www.alef-therapies.com
URL:http://www.alef-therapies.com
CONTACT:0692683269
ORGANIZER;CN="Anne-Laurence Fritsch":https://epanews.fr/profile/AnneLa
 urenceFritsch
ATTACH;FMTTYPE="image/jpeg":http://storage.ning.com/topology/rest/1.0/
 file/get/1662689108?profile=original
ATTENDEE;ROLE=REQ-PARTICIPANT;PARTSTAT=ACCEPTED;RSVP=TRUE;CN="Anne-Lau
 rence Fritsch":https://epanews.fr/profile/AnneLaurenceFritsch
END:VEVENT
END:VCALENDAR
